BEGIN:VCALENDAR
VERSION:2.0
PRODID:-//Clayton Bocce League
METHOD:PUBLISH
BEGIN:VTIMEZONE
TZID:America/Los_Angeles
X-LIC-LOCATION:America/Los_Angeles
BEGIN:DAYLIGHT
TZOFFSETFROM:-0800
TZOFFSETTO:-0700
TZNAME:PDT
DTSTART:20070311T020000
RRULE:FREQ=YEARLY;BYMONTH=3;BYDAY=2SU
END:DAYLIGHT
BEGIN:STANDARD
TZOFFSETFROM:-0700
TZOFFSETTO:-0800
TZNAME:PST
DTSTART:20071104T020000
RRULE:FREQ=YEARLY;BYMONTH=11;BYDAY=1SU
END:STANDARD
END:VTIMEZONE
BEGIN:VEVENT
DTSTAMP:20240708T000000Z
UID:8e290862-2fd2-4996-952b-ef6dc044b3e8@ClaytonBocce
DTSTART;TZID=America/Los_Angeles:20240725T183000
DTEND;TZID=America/Los_Angeles:20240725T213000
STATUS:CONFIRMED
SUMMARY:Pallino Attackers vs Don’t Touch My Balls
DESCRIPTION:F:Thu Night group regular season match: Pallino 
 Attackers vs. Don’t Touch My Balls
LOCATION:Ipsen Court 2
END:VEVENT
BEGIN:VEVENT
DTSTAMP:20240708T000000Z
UID:b1b747ab-edcd-4d8d-a7b3-cec2fc16406e@ClaytonBocce
DTSTART;TZID=America/Los_Angeles:20240801T183000
DTEND;TZID=America/Los_Angeles:20240801T213000
STATUS:CONFIRMED
SUMMARY:Pallino Attackers vs Killer BBBs
DESCRIPTION:F:Thu Night group regular season match: Pallino 
 Attackers vs. Killer BBBs
LOCATION:Ipsen Court 4
END:VEVENT
BEGIN:VEVENT
DTSTAMP:20240708T000000Z
UID:4da18606-15dc-48df-9b17-3c744dfb303e@ClaytonBocce
DTSTART;TZID=America/Los_Angeles:20240815T183000
DTEND;TZID=America/Los_Angeles:20240815T213000
STATUS:CONFIRMED
SUMMARY:Pallino Attackers vs Matt Mazzei Chevrolet CDJR
DESCRIPTION:F:Thu Night group regular season match: Pallino 
 Attackers vs. Matt Mazzei Chevrolet CDJR
LOCATION:Ipsen Court 4
END:VEVENT
BEGIN:VEVENT
DTSTAMP:20240708T000000Z
UID:c6c89434-3d91-438c-8fc1-8a1c433cc1da@ClaytonBocce
DTSTART;TZID=America/Los_Angeles:20240822T183000
DTEND;TZID=America/Los_Angeles:20240822T213000
STATUS:CONFIRMED
SUMMARY:Pallino Attackers vs Boccelism
DESCRIPTION:F:Thu Night group regular season match: Pallino 
 Attackers vs. Boccelism
LOCATION:Ipsen Court 2
END:VEVENT
BEGIN:VEVENT
DTSTAMP:20240708T000000Z
UID:f5db4c75-f3c1-4d35-88ec-a2f6624ec97c@ClaytonBocce
DTSTART;TZID=America/Los_Angeles:20240829T183000
DTEND;TZID=America/Los_Angeles:20240829T213000
STATUS:CONFIRMED
SUMMARY:Pallino Attackers vs Family Matters
DESCRIPTION:F:Thu Night group regular season match: Pallino 
 Attackers vs. Family Matters
LOCATION:Ipsen Court 2
END:VEVENT
BEGIN:VEVENT
DTSTAMP:20240708T000000Z
UID:af77685b-048a-4b62-b645-133fb6fca5eb@ClaytonBocce
DTSTART;TZID=America/Los_Angeles:20240919T183000
DTEND;TZID=America/Los_Angeles:20240919T213000
STATUS:CONFIRMED
SUMMARY:Pallino Attackers vs 5 O’Clock Somewhere
DESCRIPTION:F:Thu Night group regular season match: Pallino 
 Attackers vs. 5 O’Clock Somewhere
LOCATION:Ipsen Court 1
END:VEVENT
BEGIN:VEVENT
DTSTAMP:20240708T000000Z
UID:ba090aee-33c5-4594-bdf6-c811ad0997e7@ClaytonBocce
DTSTART;TZID=America/Los_Angeles:20240926T183000
DTEND;TZID=America/Los_Angeles:20240926T213000
STATUS:CONFIRMED
SUMMARY:Pallino Attackers vs Red Stripes
DESCRIPTION:F:Thu Night group regular season match: Pallino 
 Attackers vs. Red Stripes
LOCATION:Ipsen Court 4
END:VEVENT
BEGIN:VEVENT
DTSTAMP:20240708T000000Z
UID:ceffaa62-97c1-4632-b088-8438220cc88d@ClaytonBocce
DTSTART;TZID=America/Los_Angeles:20241003T183000
DTEND;TZID=America/Los_Angeles:20241003T213000
STATUS:CONFIRMED
SUMMARY:Pallino Attackers vs Funky Cold Pallinas
DESCRIPTION:F:Thu Night group regular season match: Pallino 
 Attackers vs. Funky Cold Pallinas
LOCATION:Ipsen Court 3
END:VEVENT
BEGIN:VEVENT
DTSTAMP:20240708T000000Z
UID:b385f329-6d77-4e73-8f2a-e5eb636e490b@ClaytonBocce
DTSTART;TZID=America/Los_Angeles:20241017T173000
DTEND;TZID=America/Los_Angeles:20241017T203000
STATUS:CONFIRMED
SUMMARY:Pallino Attackers vs Bubbles and Brews
DESCRIPTION:F:Thu Night group regular season match: Pallino 
 Attackers vs. Bubbles and Brews
LOCATION:Ipsen Court 3
END:VEVENT
END:VCALENDAR
