BEGIN:VCALENDAR
VERSION:2.0
PRODID:-//Clayton Bocce League
METHOD:PUBLISH
BEGIN:VTIMEZONE
TZID:America/Los_Angeles
X-LIC-LOCATION:America/Los_Angeles
BEGIN:DAYLIGHT
TZOFFSETFROM:-0800
TZOFFSETTO:-0700
TZNAME:PDT
DTSTART:20070311T020000
RRULE:FREQ=YEARLY;BYMONTH=3;BYDAY=2SU
END:DAYLIGHT
BEGIN:STANDARD
TZOFFSETFROM:-0700
TZOFFSETTO:-0800
TZNAME:PST
DTSTART:20071104T020000
RRULE:FREQ=YEARLY;BYMONTH=11;BYDAY=1SU
END:STANDARD
END:VTIMEZONE
BEGIN:VEVENT
DTSTAMP:20240708T000000Z
UID:6de0eb4c-693c-4825-8446-ff529a6bd68f@ClaytonBocce
DTSTART;TZID=America/Los_Angeles:20240725T183000
DTEND;TZID=America/Los_Angeles:20240725T213000
STATUS:CONFIRMED
SUMMARY:Funky Cold Pallinas vs Family Matters
DESCRIPTION:F:Thu Night group regular season match: Funky Co
 ld Pallinas vs. Family Matters
LOCATION:Ipsen Court 3
END:VEVENT
BEGIN:VEVENT
DTSTAMP:20240708T000000Z
UID:5bc5f3fb-8500-4fb9-a01e-15daaac3ed7e@ClaytonBocce
DTSTART;TZID=America/Los_Angeles:20240808T183000
DTEND;TZID=America/Los_Angeles:20240808T213000
STATUS:CONFIRMED
SUMMARY:Funky Cold Pallinas vs Red Stripes
DESCRIPTION:F:Thu Night group regular season match: Funky Co
 ld Pallinas vs. Red Stripes
LOCATION:Ipsen Court 2
END:VEVENT
BEGIN:VEVENT
DTSTAMP:20240708T000000Z
UID:167583f3-4936-435e-80fc-de81fcb760ae@ClaytonBocce
DTSTART;TZID=America/Los_Angeles:20240829T183000
DTEND;TZID=America/Los_Angeles:20240829T213000
STATUS:CONFIRMED
SUMMARY:Funky Cold Pallinas vs Matt Mazzei Chevrolet CDJR
DESCRIPTION:F:Thu Night group regular season match: Funky Co
 ld Pallinas vs. Matt Mazzei Chevrolet CDJR
LOCATION:Ipsen Court 3
END:VEVENT
BEGIN:VEVENT
DTSTAMP:20240708T000000Z
UID:495f301a-9471-4597-83f5-6b791d081802@ClaytonBocce
DTSTART;TZID=America/Los_Angeles:20240912T183000
DTEND;TZID=America/Los_Angeles:20240912T213000
STATUS:CONFIRMED
SUMMARY:Funky Cold Pallinas vs Killer BBBs
DESCRIPTION:F:Thu Night group regular season match: Funky Co
 ld Pallinas vs. Killer BBBs
LOCATION:Ipsen Court 1
END:VEVENT
BEGIN:VEVENT
DTSTAMP:20240708T000000Z
UID:c1fde371-08c3-415c-b35d-f04e1881ef83@ClaytonBocce
DTSTART;TZID=America/Los_Angeles:20240919T183000
DTEND;TZID=America/Los_Angeles:20240919T213000
STATUS:CONFIRMED
SUMMARY:Funky Cold Pallinas vs Boccelism
DESCRIPTION:F:Thu Night group regular season match: Funky Co
 ld Pallinas vs. Boccelism
LOCATION:Ipsen Court 4
END:VEVENT
BEGIN:VEVENT
DTSTAMP:20240708T000000Z
UID:99346849-2645-4d26-9600-1d3bf74b28e1@ClaytonBocce
DTSTART;TZID=America/Los_Angeles:20240926T183000
DTEND;TZID=America/Los_Angeles:20240926T213000
STATUS:CONFIRMED
SUMMARY:Funky Cold Pallinas vs Bubbles and Brews
DESCRIPTION:F:Thu Night group regular season match: Funky Co
 ld Pallinas vs. Bubbles and Brews
LOCATION:Ipsen Court 1
END:VEVENT
BEGIN:VEVENT
DTSTAMP:20240708T000000Z
UID:ceffaa62-97c1-4632-b088-8438220cc88d@ClaytonBocce
DTSTART;TZID=America/Los_Angeles:20241003T183000
DTEND;TZID=America/Los_Angeles:20241003T213000
STATUS:CONFIRMED
SUMMARY:Funky Cold Pallinas vs Pallino Attackers
DESCRIPTION:F:Thu Night group regular season match: Funky Co
 ld Pallinas vs. Pallino Attackers
LOCATION:Ipsen Court 3
END:VEVENT
BEGIN:VEVENT
DTSTAMP:20240708T000000Z
UID:1b264566-c6a4-411b-8ae2-b0a7aa5b1a25@ClaytonBocce
DTSTART;TZID=America/Los_Angeles:20241010T183000
DTEND;TZID=America/Los_Angeles:20241010T213000
STATUS:CONFIRMED
SUMMARY:Funky Cold Pallinas vs 5 O’Clock Somewhere
DESCRIPTION:F:Thu Night group regular season match: Funky Co
 ld Pallinas vs. 5 O’Clock Somewhere
LOCATION:Ipsen Court 4
END:VEVENT
BEGIN:VEVENT
DTSTAMP:20240708T000000Z
UID:a7b956af-49cd-4375-8c91-1f3a722c5cc3@ClaytonBocce
DTSTART;TZID=America/Los_Angeles:20241017T173000
DTEND;TZID=America/Los_Angeles:20241017T203000
STATUS:CONFIRMED
SUMMARY:Funky Cold Pallinas vs Don’t Touch My Balls
DESCRIPTION:F:Thu Night group regular season match: Funky Co
 ld Pallinas vs. Don’t Touch My Balls
LOCATION:Ipsen Court 2
END:VEVENT
END:VCALENDAR
