BEGIN:VCALENDAR
VERSION:2.0
PRODID:-//Clayton Bocce League
METHOD:PUBLISH
BEGIN:VTIMEZONE
TZID:America/Los_Angeles
X-LIC-LOCATION:America/Los_Angeles
BEGIN:DAYLIGHT
TZOFFSETFROM:-0800
TZOFFSETTO:-0700
TZNAME:PDT
DTSTART:20070311T020000
RRULE:FREQ=YEARLY;BYMONTH=3;BYDAY=2SU
END:DAYLIGHT
BEGIN:STANDARD
TZOFFSETFROM:-0700
TZOFFSETTO:-0800
TZNAME:PST
DTSTART:20071104T020000
RRULE:FREQ=YEARLY;BYMONTH=11;BYDAY=1SU
END:STANDARD
END:VTIMEZONE
BEGIN:VEVENT
DTSTAMP:20240708T000000Z
UID:6de0eb4c-693c-4825-8446-ff529a6bd68f@ClaytonBocce
DTSTART;TZID=America/Los_Angeles:20240725T183000
DTEND;TZID=America/Los_Angeles:20240725T213000
STATUS:CONFIRMED
SUMMARY:Family Matters vs Funky Cold Pallinas
DESCRIPTION:F:Thu Night group regular season match: Family M
 atters vs. Funky Cold Pallinas
LOCATION:Ipsen Court 3
END:VEVENT
BEGIN:VEVENT
DTSTAMP:20240708T000000Z
UID:4c4a88b9-28a2-4ef3-b4c0-b26666b0058a@ClaytonBocce
DTSTART;TZID=America/Los_Angeles:20240808T183000
DTEND;TZID=America/Los_Angeles:20240808T213000
STATUS:CONFIRMED
SUMMARY:Family Matters vs 5 O’Clock Somewhere
DESCRIPTION:F:Thu Night group regular season match: Family M
 atters vs. 5 O’Clock Somewhere
LOCATION:Ipsen Court 3
END:VEVENT
BEGIN:VEVENT
DTSTAMP:20240708T000000Z
UID:afe9395b-3e50-4cad-aed3-69f60209938b@ClaytonBocce
DTSTART;TZID=America/Los_Angeles:20240815T183000
DTEND;TZID=America/Los_Angeles:20240815T213000
STATUS:CONFIRMED
SUMMARY:Family Matters vs Red Stripes
DESCRIPTION:F:Thu Night group regular season match: Family M
 atters vs. Red Stripes
LOCATION:Ipsen Court 3
END:VEVENT
BEGIN:VEVENT
DTSTAMP:20240708T000000Z
UID:f5db4c75-f3c1-4d35-88ec-a2f6624ec97c@ClaytonBocce
DTSTART;TZID=America/Los_Angeles:20240829T183000
DTEND;TZID=America/Los_Angeles:20240829T213000
STATUS:CONFIRMED
SUMMARY:Family Matters vs Pallino Attackers
DESCRIPTION:F:Thu Night group regular season match: Family M
 atters vs. Pallino Attackers
LOCATION:Ipsen Court 2
END:VEVENT
BEGIN:VEVENT
DTSTAMP:20240708T000000Z
UID:c239d70b-c876-4a16-ac6c-15781e0494ec@ClaytonBocce
DTSTART;TZID=America/Los_Angeles:20240912T183000
DTEND;TZID=America/Los_Angeles:20240912T213000
STATUS:CONFIRMED
SUMMARY:Family Matters vs Don’t Touch My Balls
DESCRIPTION:F:Thu Night group regular season match: Family M
 atters vs. Don’t Touch My Balls
LOCATION:Ipsen Court 4
END:VEVENT
BEGIN:VEVENT
DTSTAMP:20240708T000000Z
UID:dfb4949e-f57a-41d6-a521-4a74325c6b2f@ClaytonBocce
DTSTART;TZID=America/Los_Angeles:20240919T183000
DTEND;TZID=America/Los_Angeles:20240919T213000
STATUS:CONFIRMED
SUMMARY:Family Matters vs Bubbles and Brews
DESCRIPTION:F:Thu Night group regular season match: Family M
 atters vs. Bubbles and Brews
LOCATION:Ipsen Court 2
END:VEVENT
BEGIN:VEVENT
DTSTAMP:20240708T000000Z
UID:b6d030c0-dbb5-46dc-8927-c8637508ac8b@ClaytonBocce
DTSTART;TZID=America/Los_Angeles:20240926T183000
DTEND;TZID=America/Los_Angeles:20240926T213000
STATUS:CONFIRMED
SUMMARY:Family Matters vs Boccelism
DESCRIPTION:F:Thu Night group regular season match: Family M
 atters vs. Boccelism
LOCATION:Ipsen Court 3
END:VEVENT
BEGIN:VEVENT
DTSTAMP:20240708T000000Z
UID:e1d81c19-cdbb-4a36-b575-d3ab1ef83a38@ClaytonBocce
DTSTART;TZID=America/Los_Angeles:20241003T183000
DTEND;TZID=America/Los_Angeles:20241003T213000
STATUS:CONFIRMED
SUMMARY:Family Matters vs Killer BBBs
DESCRIPTION:F:Thu Night group regular season match: Family M
 atters vs. Killer BBBs
LOCATION:Ipsen Court 4
END:VEVENT
BEGIN:VEVENT
DTSTAMP:20240708T000000Z
UID:271f154f-6f9e-463e-bf26-ff27d497ccb1@ClaytonBocce
DTSTART;TZID=America/Los_Angeles:20241010T183000
DTEND;TZID=America/Los_Angeles:20241010T213000
STATUS:CONFIRMED
SUMMARY:Family Matters vs Matt Mazzei Chevrolet CDJR
DESCRIPTION:F:Thu Night group regular season match: Family M
 atters vs. Matt Mazzei Chevrolet CDJR
LOCATION:Ipsen Court 2
END:VEVENT
END:VCALENDAR
