BEGIN:VCALENDAR
VERSION:2.0
PRODID:-//Clayton Bocce League
METHOD:PUBLISH
BEGIN:VTIMEZONE
TZID:America/Los_Angeles
X-LIC-LOCATION:America/Los_Angeles
BEGIN:DAYLIGHT
TZOFFSETFROM:-0800
TZOFFSETTO:-0700
TZNAME:PDT
DTSTART:20070311T020000
RRULE:FREQ=YEARLY;BYMONTH=3;BYDAY=2SU
END:DAYLIGHT
BEGIN:STANDARD
TZOFFSETFROM:-0700
TZOFFSETTO:-0800
TZNAME:PST
DTSTART:20071104T020000
RRULE:FREQ=YEARLY;BYMONTH=11;BYDAY=1SU
END:STANDARD
END:VTIMEZONE
BEGIN:VEVENT
DTSTAMP:20240708T000000Z
UID:a399f769-b836-4fdd-a6cf-05625578e445@ClaytonBocce
DTSTART;TZID=America/Los_Angeles:20240725T183000
DTEND;TZID=America/Los_Angeles:20240725T213000
STATUS:CONFIRMED
SUMMARY:Red Stripes vs Killer BBBs
DESCRIPTION:F:Thu Night group regular season match: Red Stri
 pes vs. Killer BBBs
LOCATION:Ipsen Court 4
END:VEVENT
BEGIN:VEVENT
DTSTAMP:20240708T000000Z
UID:5bc5f3fb-8500-4fb9-a01e-15daaac3ed7e@ClaytonBocce
DTSTART;TZID=America/Los_Angeles:20240808T183000
DTEND;TZID=America/Los_Angeles:20240808T213000
STATUS:CONFIRMED
SUMMARY:Red Stripes vs Funky Cold Pallinas
DESCRIPTION:F:Thu Night group regular season match: Red Stri
 pes vs. Funky Cold Pallinas
LOCATION:Ipsen Court 2
END:VEVENT
BEGIN:VEVENT
DTSTAMP:20240708T000000Z
UID:afe9395b-3e50-4cad-aed3-69f60209938b@ClaytonBocce
DTSTART;TZID=America/Los_Angeles:20240815T183000
DTEND;TZID=America/Los_Angeles:20240815T213000
STATUS:CONFIRMED
SUMMARY:Red Stripes vs Family Matters
DESCRIPTION:F:Thu Night group regular season match: Red Stri
 pes vs. Family Matters
LOCATION:Ipsen Court 3
END:VEVENT
BEGIN:VEVENT
DTSTAMP:20240708T000000Z
UID:62392e58-a27e-4002-b12e-d81540632e5c@ClaytonBocce
DTSTART;TZID=America/Los_Angeles:20240822T183000
DTEND;TZID=America/Los_Angeles:20240822T213000
STATUS:CONFIRMED
SUMMARY:Red Stripes vs Don’t Touch My Balls
DESCRIPTION:F:Thu Night group regular season match: Red Stri
 pes vs. Don’t Touch My Balls
LOCATION:Ipsen Court 3
END:VEVENT
BEGIN:VEVENT
DTSTAMP:20240708T000000Z
UID:450cce44-3814-45c8-b7b1-88e6b8e66df6@ClaytonBocce
DTSTART;TZID=America/Los_Angeles:20240912T183000
DTEND;TZID=America/Los_Angeles:20240912T213000
STATUS:CONFIRMED
SUMMARY:Red Stripes vs Boccelism
DESCRIPTION:F:Thu Night group regular season match: Red Stri
 pes vs. Boccelism
LOCATION:Ipsen Court 2
END:VEVENT
BEGIN:VEVENT
DTSTAMP:20240708T000000Z
UID:6aeb2ba7-97de-4808-afc1-811a8bcfb59f@ClaytonBocce
DTSTART;TZID=America/Los_Angeles:20240919T183000
DTEND;TZID=America/Los_Angeles:20240919T213000
STATUS:CONFIRMED
SUMMARY:Red Stripes vs Matt Mazzei Chevrolet CDJR
DESCRIPTION:F:Thu Night group regular season match: Red Stri
 pes vs. Matt Mazzei Chevrolet CDJR
LOCATION:Ipsen Court 3
END:VEVENT
BEGIN:VEVENT
DTSTAMP:20240708T000000Z
UID:ba090aee-33c5-4594-bdf6-c811ad0997e7@ClaytonBocce
DTSTART;TZID=America/Los_Angeles:20240926T183000
DTEND;TZID=America/Los_Angeles:20240926T213000
STATUS:CONFIRMED
SUMMARY:Red Stripes vs Pallino Attackers
DESCRIPTION:F:Thu Night group regular season match: Red Stri
 pes vs. Pallino Attackers
LOCATION:Ipsen Court 4
END:VEVENT
BEGIN:VEVENT
DTSTAMP:20240708T000000Z
UID:0159ec58-5058-46a0-8f8e-7bbb9c5b31c2@ClaytonBocce
DTSTART;TZID=America/Los_Angeles:20241003T183000
DTEND;TZID=America/Los_Angeles:20241003T213000
STATUS:CONFIRMED
SUMMARY:Red Stripes vs 5 O’Clock Somewhere
DESCRIPTION:F:Thu Night group regular season match: Red Stri
 pes vs. 5 O’Clock Somewhere
LOCATION:Ipsen Court 2
END:VEVENT
BEGIN:VEVENT
DTSTAMP:20240708T000000Z
UID:e4058e14-d5c7-466b-9d61-162c826f0f27@ClaytonBocce
DTSTART;TZID=America/Los_Angeles:20241010T183000
DTEND;TZID=America/Los_Angeles:20241010T213000
STATUS:CONFIRMED
SUMMARY:Red Stripes vs Bubbles and Brews
DESCRIPTION:F:Thu Night group regular season match: Red Stri
 pes vs. Bubbles and Brews
LOCATION:Ipsen Court 1
END:VEVENT
END:VCALENDAR
