BEGIN:VCALENDAR
VERSION:2.0
PRODID:-//Clayton Bocce League
METHOD:PUBLISH
BEGIN:VTIMEZONE
TZID:America/Los_Angeles
X-LIC-LOCATION:America/Los_Angeles
BEGIN:DAYLIGHT
TZOFFSETFROM:-0800
TZOFFSETTO:-0700
TZNAME:PDT
DTSTART:20070311T020000
RRULE:FREQ=YEARLY;BYMONTH=3;BYDAY=2SU
END:DAYLIGHT
BEGIN:STANDARD
TZOFFSETFROM:-0700
TZOFFSETTO:-0800
TZNAME:PST
DTSTART:20071104T020000
RRULE:FREQ=YEARLY;BYMONTH=11;BYDAY=1SU
END:STANDARD
END:VTIMEZONE
BEGIN:VEVENT
DTSTAMP:20241101T000000Z
UID:fd4dcaea-723e-4812-86fa-7ea5f3fd62dc@ClaytonBocce
DTSTART;TZID=America/Los_Angeles:20241104T183000
DTEND;TZID=America/Los_Angeles:20241104T213000
STATUS:CONFIRMED
SUMMARY:Still the Winers vs Dirt Ball Crew
DESCRIPTION:A:Mon Night group regular season match: Still th
 e Winers vs. Dirt Ball Crew
LOCATION:Ipsen Court 2
END:VEVENT
BEGIN:VEVENT
DTSTAMP:20241101T000000Z
UID:56985ece-c1a0-43d5-b67e-f7dd71909392@ClaytonBocce
DTSTART;TZID=America/Los_Angeles:20241118T183000
DTEND;TZID=America/Los_Angeles:20241118T213000
STATUS:CONFIRMED
SUMMARY:Still the Winers vs La Bocce Vita
DESCRIPTION:A:Mon Night group regular season match: Still th
 e Winers vs. La Bocce Vita
LOCATION:Ipsen Court 2
END:VEVENT
BEGIN:VEVENT
DTSTAMP:20241101T000000Z
UID:b513c2d4-4c89-499e-940e-2f636335bd43@ClaytonBocce
DTSTART;TZID=America/Los_Angeles:20241125T183000
DTEND;TZID=America/Los_Angeles:20241125T213000
STATUS:CONFIRMED
SUMMARY:Still the Winers vs Moresi's Chophouse II
DESCRIPTION:A:Mon Night group regular season match: Still th
 e Winers vs. Moresi's Chophouse II
LOCATION:Ipsen Court 1
END:VEVENT
BEGIN:VEVENT
DTSTAMP:20241101T000000Z
UID:5e7f2f24-83a4-49e3-83d7-26f1efc96121@ClaytonBocce
DTSTART;TZID=America/Los_Angeles:20241202T183000
DTEND;TZID=America/Los_Angeles:20241202T213000
STATUS:CONFIRMED
SUMMARY:Still the Winers vs Pallino da corsa
DESCRIPTION:A:Mon Night group regular season match: Still th
 e Winers vs. Pallino da corsa
LOCATION:Ipsen Court 3
END:VEVENT
BEGIN:VEVENT
DTSTAMP:20241101T000000Z
UID:0fb34896-c16a-4330-9f84-9a5a743e48f2@ClaytonBocce
DTSTART;TZID=America/Los_Angeles:20241209T183000
DTEND;TZID=America/Los_Angeles:20241209T213000
STATUS:CONFIRMED
SUMMARY:Still the Winers vs Just Bocce
DESCRIPTION:A:Mon Night group regular season match: Still th
 e Winers vs. Just Bocce
LOCATION:Ipsen Court 1
END:VEVENT
BEGIN:VEVENT
DTSTAMP:20241101T000000Z
UID:0c88709c-d078-4a36-95ec-d1cd42fb4586@ClaytonBocce
DTSTART;TZID=America/Los_Angeles:20241216T183000
DTEND;TZID=America/Los_Angeles:20241216T213000
STATUS:CONFIRMED
SUMMARY:Still the Winers vs Funsters
DESCRIPTION:A:Mon Night group regular season match: Still th
 e Winers vs. Funsters
LOCATION:Ipsen Court 4
END:VEVENT
BEGIN:VEVENT
DTSTAMP:20241118T151229Z
UID:19003eb5-8843-4600-b658-a44d686610bd@ClaytonBocce
DTSTART;TZID=America/Los_Angeles:20241230T183000
DTEND;TZID=America/Los_Angeles:20241230T213000
STATUS:CONFIRMED
SUMMARY:Still the Winers vs La Bocce Vita
DESCRIPTION:A:Mon Night group regular season match: Still th
 e Winers vs. La Bocce Vita (Makeup match for game(s) cancele
 d on 6:30 pm)
LOCATION:Ipsen Court 2
END:VEVENT
BEGIN:VEVENT
DTSTAMP:20241101T000000Z
UID:bd706b63-13cd-4bf8-a3a6-289f735e868f@ClaytonBocce
DTSTART;TZID=America/Los_Angeles:20250106T183000
DTEND;TZID=America/Los_Angeles:20250106T213000
STATUS:CONFIRMED
SUMMARY:Still the Winers vs Zip's Rollers
DESCRIPTION:A:Mon Night group regular season match: Still th
 e Winers vs. Zip's Rollers
LOCATION:Ipsen Court 3
END:VEVENT
BEGIN:VEVENT
DTSTAMP:20241124T104409Z
UID:b4e012e9-2c83-4b39-9d96-930e1ac80d03@ClaytonBocce
DTSTART;TZID=America/Los_Angeles:20250113T183000
DTEND;TZID=America/Los_Angeles:20250113T213000
STATUS:CONFIRMED
SUMMARY:Still the Winers vs Moresi's Chophouse II
DESCRIPTION:A:Mon Night group regular season match: Still th
 e Winers vs. Moresi's Chophouse II (Makeup match for game(s)
  canceled on 6:30 pm)
LOCATION:Ipsen Court 1
END:VEVENT
BEGIN:VEVENT
DTSTAMP:20241215T164807Z
UID:1a753e58-106d-4503-bf33-efeb8c227280@ClaytonBocce
DTSTART;TZID=America/Los_Angeles:20250120T183000
DTEND;TZID=America/Los_Angeles:20250120T213000
STATUS:CONFIRMED
SUMMARY:Still the Winers vs Funsters
DESCRIPTION:A:Mon Night group regular season match: Still th
 e Winers vs. Funsters (Makeup match for game(s) canceled on 
 6:30 pm)
LOCATION:Ipsen Court 4
END:VEVENT
BEGIN:VEVENT
DTSTAMP:20241229T151922Z
UID:932faf84-da5a-45e6-a7af-2d316af27f43@ClaytonBocce
DTSTART;TZID=America/Los_Angeles:20250127T183000
DTEND;TZID=America/Los_Angeles:20250127T213000
STATUS:CONFIRMED
SUMMARY:Still the Winers vs La Bocce Vita
DESCRIPTION:A:Mon Night group regular season match: Still th
 e Winers vs. La Bocce Vita (Makeup match for game(s) cancele
 d on 6:30 pm)
LOCATION:Ipsen Court 2
END:VEVENT
END:VCALENDAR
