BEGIN:VCALENDAR
VERSION:2.0
PRODID:-//Clayton Bocce League
METHOD:PUBLISH
BEGIN:VTIMEZONE
TZID:America/Los_Angeles
X-LIC-LOCATION:America/Los_Angeles
BEGIN:DAYLIGHT
TZOFFSETFROM:-0800
TZOFFSETTO:-0700
TZNAME:PDT
DTSTART:20070311T020000
RRULE:FREQ=YEARLY;BYMONTH=3;BYDAY=2SU
END:DAYLIGHT
BEGIN:STANDARD
TZOFFSETFROM:-0700
TZOFFSETTO:-0800
TZNAME:PST
DTSTART:20071104T020000
RRULE:FREQ=YEARLY;BYMONTH=11;BYDAY=1SU
END:STANDARD
END:VTIMEZONE
BEGIN:VEVENT
DTSTAMP:20241101T000000Z
UID:e4540f76-045d-431e-bb59-9e2839ed7649@ClaytonBocce
DTSTART;TZID=America/Los_Angeles:20241104T183000
DTEND;TZID=America/Los_Angeles:20241104T213000
STATUS:CONFIRMED
SUMMARY:Funsters vs La Bocce Vita
DESCRIPTION:A:Mon Night group regular season match: Funsters
  vs. La Bocce Vita
LOCATION:Ipsen Court 3
END:VEVENT
BEGIN:VEVENT
DTSTAMP:20241101T000000Z
UID:4b98d2fb-cc05-46c5-b4c6-c01e8c8b7c30@ClaytonBocce
DTSTART;TZID=America/Los_Angeles:20241118T183000
DTEND;TZID=America/Los_Angeles:20241118T213000
STATUS:CONFIRMED
SUMMARY:Funsters vs Zip's Rollers
DESCRIPTION:A:Mon Night group regular season match: Funsters
  vs. Zip's Rollers
LOCATION:Ipsen Court 1
END:VEVENT
BEGIN:VEVENT
DTSTAMP:20241101T000000Z
UID:7eb7b606-de69-4621-9016-6d6b88bed790@ClaytonBocce
DTSTART;TZID=America/Los_Angeles:20241125T183000
DTEND;TZID=America/Los_Angeles:20241125T213000
STATUS:CONFIRMED
SUMMARY:Funsters vs Just Bocce
DESCRIPTION:A:Mon Night group regular season match: Funsters
  vs. Just Bocce
LOCATION:Ipsen Court 4
END:VEVENT
BEGIN:VEVENT
DTSTAMP:20241101T000000Z
UID:0ff8c04a-f69d-43b4-a1a1-5e1cc9e91142@ClaytonBocce
DTSTART;TZID=America/Los_Angeles:20241202T183000
DTEND;TZID=America/Los_Angeles:20241202T213000
STATUS:CONFIRMED
SUMMARY:Funsters vs Dirt Ball Crew
DESCRIPTION:A:Mon Night group regular season match: Funsters
  vs. Dirt Ball Crew
LOCATION:Ipsen Court 1
END:VEVENT
BEGIN:VEVENT
DTSTAMP:20241101T000000Z
UID:c5a65704-0cc3-440d-9e0c-8e4aa613e953@ClaytonBocce
DTSTART;TZID=America/Los_Angeles:20241209T183000
DTEND;TZID=America/Los_Angeles:20241209T213000
STATUS:CONFIRMED
SUMMARY:Funsters vs Pallino da corsa
DESCRIPTION:A:Mon Night group regular season match: Funsters
  vs. Pallino da corsa
LOCATION:Ipsen Court 2
END:VEVENT
BEGIN:VEVENT
DTSTAMP:20241101T000000Z
UID:0c88709c-d078-4a36-95ec-d1cd42fb4586@ClaytonBocce
DTSTART;TZID=America/Los_Angeles:20241216T183000
DTEND;TZID=America/Los_Angeles:20241216T213000
STATUS:CONFIRMED
SUMMARY:Funsters vs Still the Winers
DESCRIPTION:A:Mon Night group regular season match: Funsters
  vs. Still the Winers
LOCATION:Ipsen Court 4
END:VEVENT
BEGIN:VEVENT
DTSTAMP:20241118T151229Z
UID:04eaf08b-828f-431a-a70c-b24e85073657@ClaytonBocce
DTSTART;TZID=America/Los_Angeles:20241230T183000
DTEND;TZID=America/Los_Angeles:20241230T213000
STATUS:CONFIRMED
SUMMARY:Funsters vs Zip's Rollers
DESCRIPTION:A:Mon Night group regular season match: Funsters
  vs. Zip's Rollers (Makeup match for game(s) canceled on 6:3
 0 pm)
LOCATION:Ipsen Court 1
END:VEVENT
BEGIN:VEVENT
DTSTAMP:20241101T000000Z
UID:a145375d-f36e-4f5a-a4ae-0f8a43018e10@ClaytonBocce
DTSTART;TZID=America/Los_Angeles:20250106T183000
DTEND;TZID=America/Los_Angeles:20250106T213000
STATUS:CONFIRMED
SUMMARY:Funsters vs Moresi's Chophouse II
DESCRIPTION:A:Mon Night group regular season match: Funsters
  vs. Moresi's Chophouse II
LOCATION:Ipsen Court 2
END:VEVENT
BEGIN:VEVENT
DTSTAMP:20241124T104409Z
UID:b19d03c7-be62-4c82-a5d3-5622c71edfe4@ClaytonBocce
DTSTART;TZID=America/Los_Angeles:20250113T183000
DTEND;TZID=America/Los_Angeles:20250113T213000
STATUS:CONFIRMED
SUMMARY:Funsters vs Just Bocce
DESCRIPTION:A:Mon Night group regular season match: Funsters
  vs. Just Bocce (Makeup match for game(s) canceled on 6:30 p
 m)
LOCATION:Ipsen Court 4
END:VEVENT
BEGIN:VEVENT
DTSTAMP:20241215T164807Z
UID:1a753e58-106d-4503-bf33-efeb8c227280@ClaytonBocce
DTSTART;TZID=America/Los_Angeles:20250120T183000
DTEND;TZID=America/Los_Angeles:20250120T213000
STATUS:CONFIRMED
SUMMARY:Funsters vs Still the Winers
DESCRIPTION:A:Mon Night group regular season match: Funsters
  vs. Still the Winers (Makeup match for game(s) canceled on 
 6:30 pm)
LOCATION:Ipsen Court 4
END:VEVENT
BEGIN:VEVENT
DTSTAMP:20241229T151922Z
UID:fbd0be52-1ce7-48b8-9e82-ae27b1025d33@ClaytonBocce
DTSTART;TZID=America/Los_Angeles:20250127T183000
DTEND;TZID=America/Los_Angeles:20250127T213000
STATUS:CONFIRMED
SUMMARY:Funsters vs Zip's Rollers
DESCRIPTION:A:Mon Night group regular season match: Funsters
  vs. Zip's Rollers (Makeup match for game(s) canceled on 6:3
 0 pm)
LOCATION:Ipsen Court 1
END:VEVENT
END:VCALENDAR
