BEGIN:VCALENDAR
VERSION:2.0
PRODID:-//Clayton Bocce League
METHOD:PUBLISH
BEGIN:VTIMEZONE
TZID:America/Los_Angeles
X-LIC-LOCATION:America/Los_Angeles
BEGIN:DAYLIGHT
TZOFFSETFROM:-0800
TZOFFSETTO:-0700
TZNAME:PDT
DTSTART:20070311T020000
RRULE:FREQ=YEARLY;BYMONTH=3;BYDAY=2SU
END:DAYLIGHT
BEGIN:STANDARD
TZOFFSETFROM:-0700
TZOFFSETTO:-0800
TZNAME:PST
DTSTART:20071104T020000
RRULE:FREQ=YEARLY;BYMONTH=11;BYDAY=1SU
END:STANDARD
END:VTIMEZONE
BEGIN:VEVENT
DTSTAMP:20241101T000000Z
UID:e4540f76-045d-431e-bb59-9e2839ed7649@ClaytonBocce
DTSTART;TZID=America/Los_Angeles:20241104T183000
DTEND;TZID=America/Los_Angeles:20241104T213000
STATUS:CONFIRMED
SUMMARY:La Bocce Vita vs Funsters
DESCRIPTION:A:Mon Night group regular season match: La Bocce
  Vita vs. Funsters
LOCATION:Ipsen Court 3
END:VEVENT
BEGIN:VEVENT
DTSTAMP:20241101T000000Z
UID:56985ece-c1a0-43d5-b67e-f7dd71909392@ClaytonBocce
DTSTART;TZID=America/Los_Angeles:20241118T183000
DTEND;TZID=America/Los_Angeles:20241118T213000
STATUS:CONFIRMED
SUMMARY:La Bocce Vita vs Still the Winers
DESCRIPTION:A:Mon Night group regular season match: La Bocce
  Vita vs. Still the Winers
LOCATION:Ipsen Court 2
END:VEVENT
BEGIN:VEVENT
DTSTAMP:20241101T000000Z
UID:7a28346b-7c38-4872-a249-b3bd65048d4c@ClaytonBocce
DTSTART;TZID=America/Los_Angeles:20241125T183000
DTEND;TZID=America/Los_Angeles:20241125T213000
STATUS:CONFIRMED
SUMMARY:La Bocce Vita vs Dirt Ball Crew
DESCRIPTION:A:Mon Night group regular season match: La Bocce
  Vita vs. Dirt Ball Crew
LOCATION:Ipsen Court 2
END:VEVENT
BEGIN:VEVENT
DTSTAMP:20241101T000000Z
UID:431baeaa-d79f-438e-8878-ba585789351b@ClaytonBocce
DTSTART;TZID=America/Los_Angeles:20241202T183000
DTEND;TZID=America/Los_Angeles:20241202T213000
STATUS:CONFIRMED
SUMMARY:La Bocce Vita vs Moresi's Chophouse II
DESCRIPTION:A:Mon Night group regular season match: La Bocce
  Vita vs. Moresi's Chophouse II
LOCATION:Ipsen Court 4
END:VEVENT
BEGIN:VEVENT
DTSTAMP:20241101T000000Z
UID:a36d9088-aded-497d-9273-e831d0ae55ee@ClaytonBocce
DTSTART;TZID=America/Los_Angeles:20241209T183000
DTEND;TZID=America/Los_Angeles:20241209T213000
STATUS:CONFIRMED
SUMMARY:La Bocce Vita vs Zip's Rollers
DESCRIPTION:A:Mon Night group regular season match: La Bocce
  Vita vs. Zip's Rollers
LOCATION:Ipsen Court 4
END:VEVENT
BEGIN:VEVENT
DTSTAMP:20241101T000000Z
UID:ba035cda-3ac9-4418-be16-ec118c9c481a@ClaytonBocce
DTSTART;TZID=America/Los_Angeles:20241216T183000
DTEND;TZID=America/Los_Angeles:20241216T213000
STATUS:CONFIRMED
SUMMARY:La Bocce Vita vs Just Bocce
DESCRIPTION:A:Mon Night group regular season match: La Bocce
  Vita vs. Just Bocce
LOCATION:Ipsen Court 3
END:VEVENT
BEGIN:VEVENT
DTSTAMP:20241118T151229Z
UID:19003eb5-8843-4600-b658-a44d686610bd@ClaytonBocce
DTSTART;TZID=America/Los_Angeles:20241230T183000
DTEND;TZID=America/Los_Angeles:20241230T213000
STATUS:CONFIRMED
SUMMARY:La Bocce Vita vs Still the Winers
DESCRIPTION:A:Mon Night group regular season match: La Bocce
  Vita vs. Still the Winers (Makeup match for game(s) cancele
 d on 6:30 pm)
LOCATION:Ipsen Court 2
END:VEVENT
BEGIN:VEVENT
DTSTAMP:20241101T000000Z
UID:84bddfbc-7b64-443d-9266-c8645678b0df@ClaytonBocce
DTSTART;TZID=America/Los_Angeles:20250106T183000
DTEND;TZID=America/Los_Angeles:20250106T213000
STATUS:CONFIRMED
SUMMARY:La Bocce Vita vs Pallino da corsa
DESCRIPTION:A:Mon Night group regular season match: La Bocce
  Vita vs. Pallino da corsa
LOCATION:Ipsen Court 1
END:VEVENT
BEGIN:VEVENT
DTSTAMP:20241124T104409Z
UID:98fc4d06-d445-4896-bfe4-ecd35696c0e3@ClaytonBocce
DTSTART;TZID=America/Los_Angeles:20250113T183000
DTEND;TZID=America/Los_Angeles:20250113T213000
STATUS:CONFIRMED
SUMMARY:La Bocce Vita vs Dirt Ball Crew
DESCRIPTION:A:Mon Night group regular season match: La Bocce
  Vita vs. Dirt Ball Crew (Makeup match for game(s) canceled 
 on 6:30 pm)
LOCATION:Ipsen Court 2
END:VEVENT
BEGIN:VEVENT
DTSTAMP:20241215T164807Z
UID:88660e8b-3873-46f6-97bd-3a15a1d50f24@ClaytonBocce
DTSTART;TZID=America/Los_Angeles:20250120T183000
DTEND;TZID=America/Los_Angeles:20250120T213000
STATUS:CONFIRMED
SUMMARY:La Bocce Vita vs Just Bocce
DESCRIPTION:A:Mon Night group regular season match: La Bocce
  Vita vs. Just Bocce (Makeup match for game(s) canceled on 6
 :30 pm)
LOCATION:Ipsen Court 3
END:VEVENT
BEGIN:VEVENT
DTSTAMP:20241229T151922Z
UID:932faf84-da5a-45e6-a7af-2d316af27f43@ClaytonBocce
DTSTART;TZID=America/Los_Angeles:20250127T183000
DTEND;TZID=America/Los_Angeles:20250127T213000
STATUS:CONFIRMED
SUMMARY:La Bocce Vita vs Still the Winers
DESCRIPTION:A:Mon Night group regular season match: La Bocce
  Vita vs. Still the Winers (Makeup match for game(s) cancele
 d on 6:30 pm)
LOCATION:Ipsen Court 2
END:VEVENT
END:VCALENDAR
