BEGIN:VCALENDAR
VERSION:2.0
PRODID:-//Clayton Bocce League
METHOD:PUBLISH
BEGIN:VTIMEZONE
TZID:America/Los_Angeles
X-LIC-LOCATION:America/Los_Angeles
BEGIN:DAYLIGHT
TZOFFSETFROM:-0800
TZOFFSETTO:-0700
TZNAME:PDT
DTSTART:20070311T020000
RRULE:FREQ=YEARLY;BYMONTH=3;BYDAY=2SU
END:DAYLIGHT
BEGIN:STANDARD
TZOFFSETFROM:-0700
TZOFFSETTO:-0800
TZNAME:PST
DTSTART:20071104T020000
RRULE:FREQ=YEARLY;BYMONTH=11;BYDAY=1SU
END:STANDARD
END:VTIMEZONE
BEGIN:VEVENT
DTSTAMP:20241101T000000Z
UID:2c3fe680-4d93-4fc4-a05c-f7e38ee3929e@ClaytonBocce
DTSTART;TZID=America/Los_Angeles:20241104T183000
DTEND;TZID=America/Los_Angeles:20241104T213000
STATUS:CONFIRMED
SUMMARY:Moresi's Chophouse II vs Zip's Rollers
DESCRIPTION:A:Mon Night group regular season match: Moresi's
  Chophouse II vs. Zip's Rollers
LOCATION:Ipsen Court 4
END:VEVENT
BEGIN:VEVENT
DTSTAMP:20241101T000000Z
UID:8ccf8c77-cca5-4d56-8a64-952a67bb7778@ClaytonBocce
DTSTART;TZID=America/Los_Angeles:20241118T183000
DTEND;TZID=America/Los_Angeles:20241118T213000
STATUS:CONFIRMED
SUMMARY:Moresi's Chophouse II vs Just Bocce
DESCRIPTION:A:Mon Night group regular season match: Moresi's
  Chophouse II vs. Just Bocce
LOCATION:Ipsen Court 3
END:VEVENT
BEGIN:VEVENT
DTSTAMP:20241101T000000Z
UID:b513c2d4-4c89-499e-940e-2f636335bd43@ClaytonBocce
DTSTART;TZID=America/Los_Angeles:20241125T183000
DTEND;TZID=America/Los_Angeles:20241125T213000
STATUS:CONFIRMED
SUMMARY:Moresi's Chophouse II vs Still the Winers
DESCRIPTION:A:Mon Night group regular season match: Moresi's
  Chophouse II vs. Still the Winers
LOCATION:Ipsen Court 1
END:VEVENT
BEGIN:VEVENT
DTSTAMP:20241101T000000Z
UID:431baeaa-d79f-438e-8878-ba585789351b@ClaytonBocce
DTSTART;TZID=America/Los_Angeles:20241202T183000
DTEND;TZID=America/Los_Angeles:20241202T213000
STATUS:CONFIRMED
SUMMARY:Moresi's Chophouse II vs La Bocce Vita
DESCRIPTION:A:Mon Night group regular season match: Moresi's
  Chophouse II vs. La Bocce Vita
LOCATION:Ipsen Court 4
END:VEVENT
BEGIN:VEVENT
DTSTAMP:20241101T000000Z
UID:816c0756-e434-4958-bd35-725e139dde77@ClaytonBocce
DTSTART;TZID=America/Los_Angeles:20241209T183000
DTEND;TZID=America/Los_Angeles:20241209T213000
STATUS:CONFIRMED
SUMMARY:Moresi's Chophouse II vs Dirt Ball Crew
DESCRIPTION:A:Mon Night group regular season match: Moresi's
  Chophouse II vs. Dirt Ball Crew
LOCATION:Ipsen Court 3
END:VEVENT
BEGIN:VEVENT
DTSTAMP:20241101T000000Z
UID:3c081e5e-e347-49b5-9f23-c49b96aee584@ClaytonBocce
DTSTART;TZID=America/Los_Angeles:20241216T183000
DTEND;TZID=America/Los_Angeles:20241216T213000
STATUS:CONFIRMED
SUMMARY:Moresi's Chophouse II vs Pallino da corsa
DESCRIPTION:A:Mon Night group regular season match: Moresi's
  Chophouse II vs. Pallino da corsa
LOCATION:Ipsen Court 2
END:VEVENT
BEGIN:VEVENT
DTSTAMP:20241118T151229Z
UID:091eb6d4-9b4c-4f76-b632-367a971a5f28@ClaytonBocce
DTSTART;TZID=America/Los_Angeles:20241230T183000
DTEND;TZID=America/Los_Angeles:20241230T213000
STATUS:CONFIRMED
SUMMARY:Moresi's Chophouse II vs Just Bocce
DESCRIPTION:A:Mon Night group regular season match: Moresi's
  Chophouse II vs. Just Bocce (Makeup match for game(s) cance
 led on 6:30 pm)
LOCATION:Ipsen Court 3
END:VEVENT
BEGIN:VEVENT
DTSTAMP:20241101T000000Z
UID:a145375d-f36e-4f5a-a4ae-0f8a43018e10@ClaytonBocce
DTSTART;TZID=America/Los_Angeles:20250106T183000
DTEND;TZID=America/Los_Angeles:20250106T213000
STATUS:CONFIRMED
SUMMARY:Moresi's Chophouse II vs Funsters
DESCRIPTION:A:Mon Night group regular season match: Moresi's
  Chophouse II vs. Funsters
LOCATION:Ipsen Court 2
END:VEVENT
BEGIN:VEVENT
DTSTAMP:20241124T104409Z
UID:b4e012e9-2c83-4b39-9d96-930e1ac80d03@ClaytonBocce
DTSTART;TZID=America/Los_Angeles:20250113T183000
DTEND;TZID=America/Los_Angeles:20250113T213000
STATUS:CONFIRMED
SUMMARY:Moresi's Chophouse II vs Still the Winers
DESCRIPTION:A:Mon Night group regular season match: Moresi's
  Chophouse II vs. Still the Winers (Makeup match for game(s)
  canceled on 6:30 pm)
LOCATION:Ipsen Court 1
END:VEVENT
BEGIN:VEVENT
DTSTAMP:20241215T164807Z
UID:39d9a9b2-2124-4dcb-82ae-3f0f10877b1e@ClaytonBocce
DTSTART;TZID=America/Los_Angeles:20250120T183000
DTEND;TZID=America/Los_Angeles:20250120T213000
STATUS:CONFIRMED
SUMMARY:Moresi's Chophouse II vs Pallino da corsa
DESCRIPTION:A:Mon Night group regular season match: Moresi's
  Chophouse II vs. Pallino da corsa (Makeup match for game(s)
  canceled on 6:30 pm)
LOCATION:Ipsen Court 2
END:VEVENT
BEGIN:VEVENT
DTSTAMP:20241229T151922Z
UID:037ff122-85cb-4d64-8688-4179799480ba@ClaytonBocce
DTSTART;TZID=America/Los_Angeles:20250127T183000
DTEND;TZID=America/Los_Angeles:20250127T213000
STATUS:CONFIRMED
SUMMARY:Moresi's Chophouse II vs Just Bocce
DESCRIPTION:A:Mon Night group regular season match: Moresi's
  Chophouse II vs. Just Bocce (Makeup match for game(s) cance
 led on 6:30 pm)
LOCATION:Ipsen Court 3
END:VEVENT
END:VCALENDAR
