BEGIN:VCALENDAR
VERSION:2.0
PRODID:-//Clayton Bocce League
METHOD:PUBLISH
BEGIN:VTIMEZONE
TZID:America/Los_Angeles
X-LIC-LOCATION:America/Los_Angeles
BEGIN:DAYLIGHT
TZOFFSETFROM:-0800
TZOFFSETTO:-0700
TZNAME:PDT
DTSTART:20070311T020000
RRULE:FREQ=YEARLY;BYMONTH=3;BYDAY=2SU
END:DAYLIGHT
BEGIN:STANDARD
TZOFFSETFROM:-0700
TZOFFSETTO:-0800
TZNAME:PST
DTSTART:20071104T020000
RRULE:FREQ=YEARLY;BYMONTH=11;BYDAY=1SU
END:STANDARD
END:VTIMEZONE
BEGIN:VEVENT
DTSTAMP:20241101T000000Z
UID:72f20c71-a6dc-473d-88d2-65e2901225ce@ClaytonBocce
DTSTART;TZID=America/Los_Angeles:20241105T183000
DTEND;TZID=America/Los_Angeles:20241105T213000
STATUS:CONFIRMED
SUMMARY:C'Mon Man II vs Bocce Bandits
DESCRIPTION:B:Tue Night group regular season match: C'Mon Ma
 n II vs. Bocce Bandits
LOCATION:Ipsen Court 3
END:VEVENT
BEGIN:VEVENT
DTSTAMP:20241101T000000Z
UID:3300b0d5-0f5c-450d-b7c9-bb22dfbccfed@ClaytonBocce
DTSTART;TZID=America/Los_Angeles:20241119T183000
DTEND;TZID=America/Los_Angeles:20241119T213000
STATUS:CONFIRMED
SUMMARY:C'Mon Man II vs Trina's Rollers II
DESCRIPTION:B:Tue Night group regular season match: C'Mon Ma
 n II vs. Trina's Rollers II
LOCATION:Ipsen Court 1
END:VEVENT
BEGIN:VEVENT
DTSTAMP:20241101T000000Z
UID:911a1059-65e7-411b-a6ff-bf4d75e583bb@ClaytonBocce
DTSTART;TZID=America/Los_Angeles:20241126T183000
DTEND;TZID=America/Los_Angeles:20241126T213000
STATUS:CONFIRMED
SUMMARY:C'Mon Man II vs FBI
DESCRIPTION:B:Tue Night group regular season match: C'Mon Ma
 n II vs. FBI
LOCATION:Ipsen Court 4
END:VEVENT
BEGIN:VEVENT
DTSTAMP:20241101T000000Z
UID:2473973a-8834-42f4-bc85-db4d0a49e288@ClaytonBocce
DTSTART;TZID=America/Los_Angeles:20241203T183000
DTEND;TZID=America/Los_Angeles:20241203T213000
STATUS:CONFIRMED
SUMMARY:C'Mon Man II vs Can't Botch This
DESCRIPTION:B:Tue Night group regular season match: C'Mon Ma
 n II vs. Can't Botch This
LOCATION:Ipsen Court 1
END:VEVENT
BEGIN:VEVENT
DTSTAMP:20241101T000000Z
UID:cc755d34-44bd-462c-9cb9-3bb15f7c9e49@ClaytonBocce
DTSTART;TZID=America/Los_Angeles:20241210T183000
DTEND;TZID=America/Los_Angeles:20241210T213000
STATUS:CONFIRMED
SUMMARY:C'Mon Man II vs Pesky Pallinos
DESCRIPTION:B:Tue Night group regular season match: C'Mon Ma
 n II vs. Pesky Pallinos
LOCATION:Ipsen Court 2
END:VEVENT
BEGIN:VEVENT
DTSTAMP:20241101T000000Z
UID:7a104dfc-95c1-4d15-9cc4-003bfc607da7@ClaytonBocce
DTSTART;TZID=America/Los_Angeles:20241217T183000
DTEND;TZID=America/Los_Angeles:20241217T213000
STATUS:CONFIRMED
SUMMARY:C'Mon Man II vs Thunder Rolls
DESCRIPTION:B:Tue Night group regular season match: C'Mon Ma
 n II vs. Thunder Rolls
LOCATION:Ipsen Court 4
END:VEVENT
BEGIN:VEVENT
DTSTAMP:20241101T000000Z
UID:207fb1cf-d5f5-46f7-bc12-2283debc59a8@ClaytonBocce
DTSTART;TZID=America/Los_Angeles:20250107T183000
DTEND;TZID=America/Los_Angeles:20250107T213000
STATUS:CONFIRMED
SUMMARY:C'Mon Man II vs My Team
DESCRIPTION:B:Tue Night group regular season match: C'Mon Ma
 n II vs. My Team
LOCATION:Ipsen Court 2
END:VEVENT
BEGIN:VEVENT
DTSTAMP:20241124T104449Z
UID:10623a54-af47-4f3c-afa1-6068e17b89c1@ClaytonBocce
DTSTART;TZID=America/Los_Angeles:20250114T183000
DTEND;TZID=America/Los_Angeles:20250114T213000
STATUS:CONFIRMED
SUMMARY:C'Mon Man II vs FBI
DESCRIPTION:B:Tue Night group regular season match: C'Mon Ma
 n II vs. FBI (Makeup match for game(s) canceled on 6:30 pm)
LOCATION:Ipsen Court 4
END:VEVENT
BEGIN:VEVENT
DTSTAMP:20241216T135656Z
UID:a8f9720f-6484-4dc7-bd41-cffae39bc781@ClaytonBocce
DTSTART;TZID=America/Los_Angeles:20250121T183000
DTEND;TZID=America/Los_Angeles:20250121T213000
STATUS:CONFIRMED
SUMMARY:C'Mon Man II vs Thunder Rolls
DESCRIPTION:B:Tue Night group regular season match: C'Mon Ma
 n II vs. Thunder Rolls (Makeup match for game(s) canceled on
  6:30 pm)
LOCATION:Ipsen Court 4
END:VEVENT
END:VCALENDAR
