BEGIN:VCALENDAR
VERSION:2.0
PRODID:-//Clayton Bocce League
METHOD:PUBLISH
BEGIN:VTIMEZONE
TZID:America/Los_Angeles
X-LIC-LOCATION:America/Los_Angeles
BEGIN:DAYLIGHT
TZOFFSETFROM:-0800
TZOFFSETTO:-0700
TZNAME:PDT
DTSTART:20070311T020000
RRULE:FREQ=YEARLY;BYMONTH=3;BYDAY=2SU
END:DAYLIGHT
BEGIN:STANDARD
TZOFFSETFROM:-0700
TZOFFSETTO:-0800
TZNAME:PST
DTSTART:20071104T020000
RRULE:FREQ=YEARLY;BYMONTH=11;BYDAY=1SU
END:STANDARD
END:VTIMEZONE
BEGIN:VEVENT
DTSTAMP:20241101T000000Z
UID:4f225931-9b3f-4c14-aaac-c7f874b73d15@ClaytonBocce
DTSTART;TZID=America/Los_Angeles:20241106T183000
DTEND;TZID=America/Los_Angeles:20241106T213000
STATUS:CONFIRMED
SUMMARY:Free Ballin vs Bottles n Bocce
DESCRIPTION:C:Wed Night group regular season match: Free Bal
 lin vs. Bottles n Bocce
LOCATION:Ipsen Court 1
END:VEVENT
BEGIN:VEVENT
DTSTAMP:20241101T000000Z
UID:b88259b5-0491-4eea-b5f8-31c24aeff801@ClaytonBocce
DTSTART;TZID=America/Los_Angeles:20241113T183000
DTEND;TZID=America/Los_Angeles:20241113T213000
STATUS:CONFIRMED
SUMMARY:Free Ballin vs Banking on Bocce
DESCRIPTION:C:Wed Night group regular season match: Free Bal
 lin vs. Banking on Bocce
LOCATION:Ipsen Court 4
END:VEVENT
BEGIN:VEVENT
DTSTAMP:20241101T000000Z
UID:58059900-11bb-4886-bca6-716bd1619761@ClaytonBocce
DTSTART;TZID=America/Los_Angeles:20241120T183000
DTEND;TZID=America/Los_Angeles:20241120T213000
STATUS:CONFIRMED
SUMMARY:Free Ballin vs Throw Pallino First
DESCRIPTION:C:Wed Night group regular season match: Free Bal
 lin vs. Throw Pallino First
LOCATION:Ipsen Court 3
END:VEVENT
BEGIN:VEVENT
DTSTAMP:20241101T000000Z
UID:2d738d10-e8db-4a4a-8e23-e0875cf9d778@ClaytonBocce
DTSTART;TZID=America/Los_Angeles:20241204T183000
DTEND;TZID=America/Los_Angeles:20241204T213000
STATUS:CONFIRMED
SUMMARY:Free Ballin vs Pizzamen Bocce
DESCRIPTION:C:Wed Night group regular season match: Free Bal
 lin vs. Pizzamen Bocce
LOCATION:Ipsen Court 3
END:VEVENT
BEGIN:VEVENT
DTSTAMP:20241101T000000Z
UID:6aa872fd-5592-4600-b00c-49ed1a2bfa06@ClaytonBocce
DTSTART;TZID=America/Los_Angeles:20241211T183000
DTEND;TZID=America/Los_Angeles:20241211T213000
STATUS:CONFIRMED
SUMMARY:Free Ballin vs The Big LaBocce
DESCRIPTION:C:Wed Night group regular season match: Free Bal
 lin vs. The Big LaBocce
LOCATION:Ipsen Court 2
END:VEVENT
BEGIN:VEVENT
DTSTAMP:20241101T000000Z
UID:66679592-bd8b-4c7b-8ef0-7501923d518d@ClaytonBocce
DTSTART;TZID=America/Los_Angeles:20241218T183000
DTEND;TZID=America/Los_Angeles:20241218T213000
STATUS:CONFIRMED
SUMMARY:Free Ballin vs Freddo Bocce
DESCRIPTION:C:Wed Night group regular season match: Free Bal
 lin vs. Freddo Bocce
LOCATION:Ipsen Court 2
END:VEVENT
BEGIN:VEVENT
DTSTAMP:20241101T000000Z
UID:32844ebc-cfb0-4177-bb0a-e103a27e438b@ClaytonBocce
DTSTART;TZID=America/Los_Angeles:20250108T183000
DTEND;TZID=America/Los_Angeles:20250108T213000
STATUS:CONFIRMED
SUMMARY:Free Ballin vs Balls and Dolls
DESCRIPTION:C:Wed Night group regular season match: Free Bal
 lin vs. Balls and Dolls
LOCATION:Ipsen Court 1
END:VEVENT
BEGIN:VEVENT
DTSTAMP:20241113T181325Z
UID:83ff056e-eb0a-49f3-aff7-0339992d1efd@ClaytonBocce
DTSTART;TZID=America/Los_Angeles:20250115T183000
DTEND;TZID=America/Los_Angeles:20250115T213000
STATUS:CONFIRMED
SUMMARY:Free Ballin vs Banking on Bocce
DESCRIPTION:C:Wed Night group regular season match: Free Bal
 lin vs. Banking on Bocce (Makeup match for game(s) canceled 
 on 6:30 pm)
LOCATION:Ipsen Court 4
END:VEVENT
BEGIN:VEVENT
DTSTAMP:20241120T142648Z
UID:8dea8e82-84bd-4080-9d66-d590c77ec22d@ClaytonBocce
DTSTART;TZID=America/Los_Angeles:20250122T183000
DTEND;TZID=America/Los_Angeles:20250122T213000
STATUS:CONFIRMED
SUMMARY:Free Ballin vs Throw Pallino First
DESCRIPTION:C:Wed Night group regular season match: Free Bal
 lin vs. Throw Pallino First (Makeup match for game(s) cancel
 ed on 6:30 pm)
LOCATION:Ipsen Court 3
END:VEVENT
END:VCALENDAR
