BEGIN:VCALENDAR
VERSION:2.0
PRODID:-//Clayton Bocce League
METHOD:PUBLISH
BEGIN:VTIMEZONE
TZID:America/Los_Angeles
X-LIC-LOCATION:America/Los_Angeles
BEGIN:DAYLIGHT
TZOFFSETFROM:-0800
TZOFFSETTO:-0700
TZNAME:PDT
DTSTART:20070311T020000
RRULE:FREQ=YEARLY;BYMONTH=3;BYDAY=2SU
END:DAYLIGHT
BEGIN:STANDARD
TZOFFSETFROM:-0700
TZOFFSETTO:-0800
TZNAME:PST
DTSTART:20071104T020000
RRULE:FREQ=YEARLY;BYMONTH=11;BYDAY=1SU
END:STANDARD
END:VTIMEZONE
BEGIN:VEVENT
DTSTAMP:20241101T000000Z
UID:0f414f0d-66e7-4f5c-a87d-b14e883089cd@ClaytonBocce
DTSTART;TZID=America/Los_Angeles:20241106T183000
DTEND;TZID=America/Los_Angeles:20241106T213000
STATUS:CONFIRMED
SUMMARY:Pizzamen Bocce vs Banking on Bocce
DESCRIPTION:C:Wed Night group regular season match: Pizzamen
  Bocce vs. Banking on Bocce
LOCATION:Ipsen Court 2
END:VEVENT
BEGIN:VEVENT
DTSTAMP:20241101T000000Z
UID:74c2cd1f-ebd5-491c-8159-5d47229200b4@ClaytonBocce
DTSTART;TZID=America/Los_Angeles:20241113T183000
DTEND;TZID=America/Los_Angeles:20241113T213000
STATUS:CONFIRMED
SUMMARY:Pizzamen Bocce vs Balls and Dolls
DESCRIPTION:C:Wed Night group regular season match: Pizzamen
  Bocce vs. Balls and Dolls
LOCATION:Ipsen Court 2
END:VEVENT
BEGIN:VEVENT
DTSTAMP:20241101T000000Z
UID:8ba134b5-bd70-46e3-a6d8-e212f86151c6@ClaytonBocce
DTSTART;TZID=America/Los_Angeles:20241120T183000
DTEND;TZID=America/Los_Angeles:20241120T213000
STATUS:CONFIRMED
SUMMARY:Pizzamen Bocce vs Freddo Bocce
DESCRIPTION:C:Wed Night group regular season match: Pizzamen
  Bocce vs. Freddo Bocce
LOCATION:Ipsen Court 1
END:VEVENT
BEGIN:VEVENT
DTSTAMP:20241101T000000Z
UID:2d738d10-e8db-4a4a-8e23-e0875cf9d778@ClaytonBocce
DTSTART;TZID=America/Los_Angeles:20241204T183000
DTEND;TZID=America/Los_Angeles:20241204T213000
STATUS:CONFIRMED
SUMMARY:Pizzamen Bocce vs Free Ballin
DESCRIPTION:C:Wed Night group regular season match: Pizzamen
  Bocce vs. Free Ballin
LOCATION:Ipsen Court 3
END:VEVENT
BEGIN:VEVENT
DTSTAMP:20241101T000000Z
UID:de864723-df5c-4d48-a8a9-9e9a3a1c9e77@ClaytonBocce
DTSTART;TZID=America/Los_Angeles:20241211T183000
DTEND;TZID=America/Los_Angeles:20241211T213000
STATUS:CONFIRMED
SUMMARY:Pizzamen Bocce vs Bottles n Bocce
DESCRIPTION:C:Wed Night group regular season match: Pizzamen
  Bocce vs. Bottles n Bocce
LOCATION:Ipsen Court 1
END:VEVENT
BEGIN:VEVENT
DTSTAMP:20241101T000000Z
UID:c439b907-3baf-4600-9034-d5e64468d265@ClaytonBocce
DTSTART;TZID=America/Los_Angeles:20241218T183000
DTEND;TZID=America/Los_Angeles:20241218T213000
STATUS:CONFIRMED
SUMMARY:Pizzamen Bocce vs The Big LaBocce
DESCRIPTION:C:Wed Night group regular season match: Pizzamen
  Bocce vs. The Big LaBocce
LOCATION:Ipsen Court 4
END:VEVENT
BEGIN:VEVENT
DTSTAMP:20241101T000000Z
UID:ff470b09-4645-43e5-a968-97118bce4f03@ClaytonBocce
DTSTART;TZID=America/Los_Angeles:20250108T183000
DTEND;TZID=America/Los_Angeles:20250108T213000
STATUS:CONFIRMED
SUMMARY:Pizzamen Bocce vs Throw Pallino First
DESCRIPTION:C:Wed Night group regular season match: Pizzamen
  Bocce vs. Throw Pallino First
LOCATION:Ipsen Court 3
END:VEVENT
BEGIN:VEVENT
DTSTAMP:20241113T181325Z
UID:a3f981ee-d0e4-465b-88d6-a3cdd981a228@ClaytonBocce
DTSTART;TZID=America/Los_Angeles:20250115T183000
DTEND;TZID=America/Los_Angeles:20250115T213000
STATUS:CONFIRMED
SUMMARY:Pizzamen Bocce vs Balls and Dolls
DESCRIPTION:C:Wed Night group regular season match: Pizzamen
  Bocce vs. Balls and Dolls (Makeup match for game(s) cancele
 d on 6:30 pm)
LOCATION:Ipsen Court 2
END:VEVENT
BEGIN:VEVENT
DTSTAMP:20241120T142648Z
UID:035b4647-c42a-4c9c-91e2-ce2086447cab@ClaytonBocce
DTSTART;TZID=America/Los_Angeles:20250122T183000
DTEND;TZID=America/Los_Angeles:20250122T213000
STATUS:CONFIRMED
SUMMARY:Pizzamen Bocce vs Freddo Bocce
DESCRIPTION:C:Wed Night group regular season match: Pizzamen
  Bocce vs. Freddo Bocce (Makeup match for game(s) canceled o
 n 6:30 pm)
LOCATION:Ipsen Court 1
END:VEVENT
END:VCALENDAR
