BEGIN:VCALENDAR
VERSION:2.0
PRODID:-//Clayton Bocce League
METHOD:PUBLISH
BEGIN:VTIMEZONE
TZID:America/Los_Angeles
X-LIC-LOCATION:America/Los_Angeles
BEGIN:DAYLIGHT
TZOFFSETFROM:-0800
TZOFFSETTO:-0700
TZNAME:PDT
DTSTART:20070311T020000
RRULE:FREQ=YEARLY;BYMONTH=3;BYDAY=2SU
END:DAYLIGHT
BEGIN:STANDARD
TZOFFSETFROM:-0700
TZOFFSETTO:-0800
TZNAME:PST
DTSTART:20071104T020000
RRULE:FREQ=YEARLY;BYMONTH=11;BYDAY=1SU
END:STANDARD
END:VTIMEZONE
BEGIN:VEVENT
DTSTAMP:20241101T000000Z
UID:80122cff-88ae-4df7-bea6-5548f6e0866d@ClaytonBocce
DTSTART;TZID=America/Los_Angeles:20241107T183000
DTEND;TZID=America/Los_Angeles:20241107T213000
STATUS:CONFIRMED
SUMMARY:Family Ties vs Mazzei Chevrolet
DESCRIPTION:D:Thu Night group regular season match: Family T
 ies vs. Mazzei Chevrolet
LOCATION:Ipsen Court 1
END:VEVENT
BEGIN:VEVENT
DTSTAMP:20241101T000000Z
UID:aa761335-b90c-465b-b41c-6477a506d568@ClaytonBocce
DTSTART;TZID=America/Los_Angeles:20241114T183000
DTEND;TZID=America/Los_Angeles:20241114T213000
STATUS:CONFIRMED
SUMMARY:Family Ties vs it's all about the balls
DESCRIPTION:D:Thu Night group regular season match: Family T
 ies vs. it's all about the balls
LOCATION:Ipsen Court 3
END:VEVENT
BEGIN:VEVENT
DTSTAMP:20241101T000000Z
UID:bb22ac61-b9b0-42f0-aae0-aa2b1eaec4f9@ClaytonBocce
DTSTART;TZID=America/Los_Angeles:20241121T183000
DTEND;TZID=America/Los_Angeles:20241121T213000
STATUS:CONFIRMED
SUMMARY:Family Ties vs The Bowling League was Full
DESCRIPTION:D:Thu Night group regular season match: Family T
 ies vs. The Bowling League was Full
LOCATION:Ipsen Court 4
END:VEVENT
BEGIN:VEVENT
DTSTAMP:20241101T000000Z
UID:bc403898-61ea-4236-a6d2-f7f354505ba3@ClaytonBocce
DTSTART;TZID=America/Los_Angeles:20241205T183000
DTEND;TZID=America/Los_Angeles:20241205T213000
STATUS:CONFIRMED
SUMMARY:Family Ties vs Rollin' Stones
DESCRIPTION:D:Thu Night group regular season match: Family T
 ies vs. Rollin' Stones
LOCATION:Ipsen Court 2
END:VEVENT
BEGIN:VEVENT
DTSTAMP:20241101T000000Z
UID:625f1f5a-6930-4dbb-9a32-55544ef70d51@ClaytonBocce
DTSTART;TZID=America/Los_Angeles:20241212T183000
DTEND;TZID=America/Los_Angeles:20241212T213000
STATUS:CONFIRMED
SUMMARY:Family Ties vs Notorious B.O.C.C.E.
DESCRIPTION:D:Thu Night group regular season match: Family T
 ies vs. Notorious B.O.C.C.E.
LOCATION:Ipsen Court 1
END:VEVENT
BEGIN:VEVENT
DTSTAMP:20241101T000000Z
UID:f9c16221-d27f-481a-a717-a11f865682c5@ClaytonBocce
DTSTART;TZID=America/Los_Angeles:20241219T183000
DTEND;TZID=America/Los_Angeles:20241219T213000
STATUS:CONFIRMED
SUMMARY:Family Ties vs Balls to the Wall
DESCRIPTION:D:Thu Night group regular season match: Family T
 ies vs. Balls to the Wall
LOCATION:Ipsen Court 3
END:VEVENT
BEGIN:VEVENT
DTSTAMP:20241121T161114Z
UID:0b2482bd-b789-4830-805e-835481e13c2e@ClaytonBocce
DTSTART;TZID=America/Los_Angeles:20250102T183000
DTEND;TZID=America/Los_Angeles:20250102T213000
STATUS:CONFIRMED
SUMMARY:Family Ties vs The Bowling League was Full
DESCRIPTION:D:Thu Night group regular season match: Family T
 ies vs. The Bowling League was Full (Makeup match for game(s
 ) canceled on 6:30 pm)
LOCATION:Ipsen Court 4
END:VEVENT
BEGIN:VEVENT
DTSTAMP:20241101T000000Z
UID:89cb1259-3884-40d7-93ff-5ee55a3d25b2@ClaytonBocce
DTSTART;TZID=America/Los_Angeles:20250109T183000
DTEND;TZID=America/Los_Angeles:20250109T213000
STATUS:CONFIRMED
SUMMARY:Family Ties vs Bocce Barons
DESCRIPTION:D:Thu Night group regular season match: Family T
 ies vs. Bocce Barons
LOCATION:Ipsen Court 4
END:VEVENT
BEGIN:VEVENT
DTSTAMP:20241114T173954Z
UID:f67a8c6b-cec5-4919-b65a-9ac00c89ec96@ClaytonBocce
DTSTART;TZID=America/Los_Angeles:20250116T183000
DTEND;TZID=America/Los_Angeles:20250116T213000
STATUS:CONFIRMED
SUMMARY:Family Ties vs it's all about the balls
DESCRIPTION:D:Thu Night group regular season match: Family T
 ies vs. it's all about the balls (Makeup match for game(s) c
 anceled on 6:30 pm)
LOCATION:Ipsen Court 3
END:VEVENT
BEGIN:VEVENT
DTSTAMP:20241212T095406Z
UID:5ef704c5-5af1-4f2d-9b2c-77b81a28bfc5@ClaytonBocce
DTSTART;TZID=America/Los_Angeles:20250123T183000
DTEND;TZID=America/Los_Angeles:20250123T213000
STATUS:CONFIRMED
SUMMARY:Family Ties vs Notorious B.O.C.C.E.
DESCRIPTION:D:Thu Night group regular season match: Family T
 ies vs. Notorious B.O.C.C.E. (Makeup match for game(s) cance
 led on 6:30 pm)
LOCATION:Ipsen Court 1
END:VEVENT
END:VCALENDAR
