BEGIN:VCALENDAR
VERSION:2.0
PRODID:-//Clayton Bocce League
METHOD:PUBLISH
BEGIN:VTIMEZONE
TZID:America/Los_Angeles
X-LIC-LOCATION:America/Los_Angeles
BEGIN:DAYLIGHT
TZOFFSETFROM:-0800
TZOFFSETTO:-0700
TZNAME:PDT
DTSTART:20070311T020000
RRULE:FREQ=YEARLY;BYMONTH=3;BYDAY=2SU
END:DAYLIGHT
BEGIN:STANDARD
TZOFFSETFROM:-0700
TZOFFSETTO:-0800
TZNAME:PST
DTSTART:20071104T020000
RRULE:FREQ=YEARLY;BYMONTH=11;BYDAY=1SU
END:STANDARD
END:VTIMEZONE
BEGIN:VEVENT
DTSTAMP:20241101T000000Z
UID:80122cff-88ae-4df7-bea6-5548f6e0866d@ClaytonBocce
DTSTART;TZID=America/Los_Angeles:20241107T183000
DTEND;TZID=America/Los_Angeles:20241107T213000
STATUS:CONFIRMED
SUMMARY:Mazzei Chevrolet vs Family Ties
DESCRIPTION:D:Thu Night group regular season match: Mazzei C
 hevrolet vs. Family Ties
LOCATION:Ipsen Court 1
END:VEVENT
BEGIN:VEVENT
DTSTAMP:20241101T000000Z
UID:9c3a67b1-b99b-42f2-9a88-7abf7a908ca4@ClaytonBocce
DTSTART;TZID=America/Los_Angeles:20241114T183000
DTEND;TZID=America/Los_Angeles:20241114T213000
STATUS:CONFIRMED
SUMMARY:Mazzei Chevrolet vs Bocce Barons
DESCRIPTION:D:Thu Night group regular season match: Mazzei C
 hevrolet vs. Bocce Barons
LOCATION:Ipsen Court 4
END:VEVENT
BEGIN:VEVENT
DTSTAMP:20241101T000000Z
UID:d7779f26-d4b8-49f5-9039-2959dc3217ad@ClaytonBocce
DTSTART;TZID=America/Los_Angeles:20241121T183000
DTEND;TZID=America/Los_Angeles:20241121T213000
STATUS:CONFIRMED
SUMMARY:Mazzei Chevrolet vs Rollin' Stones
DESCRIPTION:D:Thu Night group regular season match: Mazzei C
 hevrolet vs. Rollin' Stones
LOCATION:Ipsen Court 3
END:VEVENT
BEGIN:VEVENT
DTSTAMP:20241101T000000Z
UID:179b91f8-0020-486c-9633-fca47c9d8849@ClaytonBocce
DTSTART;TZID=America/Los_Angeles:20241205T183000
DTEND;TZID=America/Los_Angeles:20241205T213000
STATUS:CONFIRMED
SUMMARY:Mazzei Chevrolet vs Notorious B.O.C.C.E.
DESCRIPTION:D:Thu Night group regular season match: Mazzei C
 hevrolet vs. Notorious B.O.C.C.E.
LOCATION:Ipsen Court 3
END:VEVENT
BEGIN:VEVENT
DTSTAMP:20241101T000000Z
UID:64e7dcfd-33b4-4f23-9674-a8f8ff5f8d9c@ClaytonBocce
DTSTART;TZID=America/Los_Angeles:20241212T183000
DTEND;TZID=America/Los_Angeles:20241212T213000
STATUS:CONFIRMED
SUMMARY:Mazzei Chevrolet vs The Bowling League was Full
DESCRIPTION:D:Thu Night group regular season match: Mazzei C
 hevrolet vs. The Bowling League was Full
LOCATION:Ipsen Court 2
END:VEVENT
BEGIN:VEVENT
DTSTAMP:20241101T000000Z
UID:8e402cfd-835e-42bb-a1f3-8f40f8c2f17d@ClaytonBocce
DTSTART;TZID=America/Los_Angeles:20241219T183000
DTEND;TZID=America/Los_Angeles:20241219T213000
STATUS:CONFIRMED
SUMMARY:Mazzei Chevrolet vs it's all about the balls
DESCRIPTION:D:Thu Night group regular season match: Mazzei C
 hevrolet vs. it's all about the balls
LOCATION:Ipsen Court 2
END:VEVENT
BEGIN:VEVENT
DTSTAMP:20241121T161114Z
UID:5c220159-c37a-42f1-a888-66e97e1304e6@ClaytonBocce
DTSTART;TZID=America/Los_Angeles:20250102T183000
DTEND;TZID=America/Los_Angeles:20250102T213000
STATUS:CONFIRMED
SUMMARY:Mazzei Chevrolet vs Rollin' Stones
DESCRIPTION:D:Thu Night group regular season match: Mazzei C
 hevrolet vs. Rollin' Stones (Makeup match for game(s) cancel
 ed on 6:30 pm)
LOCATION:Ipsen Court 3
END:VEVENT
BEGIN:VEVENT
DTSTAMP:20241101T000000Z
UID:0676a55d-4f3e-467f-bf5c-9dfa88492ac6@ClaytonBocce
DTSTART;TZID=America/Los_Angeles:20250109T183000
DTEND;TZID=America/Los_Angeles:20250109T213000
STATUS:CONFIRMED
SUMMARY:Mazzei Chevrolet vs Balls to the Wall
DESCRIPTION:D:Thu Night group regular season match: Mazzei C
 hevrolet vs. Balls to the Wall
LOCATION:Ipsen Court 1
END:VEVENT
BEGIN:VEVENT
DTSTAMP:20241114T173954Z
UID:a3c783dc-e659-4935-aebc-62913fd44ba2@ClaytonBocce
DTSTART;TZID=America/Los_Angeles:20250116T183000
DTEND;TZID=America/Los_Angeles:20250116T213000
STATUS:CONFIRMED
SUMMARY:Mazzei Chevrolet vs Bocce Barons
DESCRIPTION:D:Thu Night group regular season match: Mazzei C
 hevrolet vs. Bocce Barons (Makeup match for game(s) canceled
  on 6:30 pm)
LOCATION:Ipsen Court 4
END:VEVENT
BEGIN:VEVENT
DTSTAMP:20241212T095406Z
UID:b02bb7ae-6fef-4fd6-92c0-d9d93df155ca@ClaytonBocce
DTSTART;TZID=America/Los_Angeles:20250123T183000
DTEND;TZID=America/Los_Angeles:20250123T213000
STATUS:CONFIRMED
SUMMARY:Mazzei Chevrolet vs The Bowling League was Full
DESCRIPTION:D:Thu Night group regular season match: Mazzei C
 hevrolet vs. The Bowling League was Full (Makeup match for g
 ame(s) canceled on 6:30 pm)
LOCATION:Ipsen Court 2
END:VEVENT
END:VCALENDAR
