BEGIN:VCALENDAR
VERSION:2.0
PRODID:-//Clayton Bocce League
METHOD:PUBLISH
BEGIN:VTIMEZONE
TZID:America/Los_Angeles
X-LIC-LOCATION:America/Los_Angeles
BEGIN:DAYLIGHT
TZOFFSETFROM:-0800
TZOFFSETTO:-0700
TZNAME:PDT
DTSTART:20070311T020000
RRULE:FREQ=YEARLY;BYMONTH=3;BYDAY=2SU
END:DAYLIGHT
BEGIN:STANDARD
TZOFFSETFROM:-0700
TZOFFSETTO:-0800
TZNAME:PST
DTSTART:20071104T020000
RRULE:FREQ=YEARLY;BYMONTH=11;BYDAY=1SU
END:STANDARD
END:VTIMEZONE
BEGIN:VEVENT
DTSTAMP:20241101T000000Z
UID:21cbf28f-bb2a-4db1-ac6e-332e3784005c@ClaytonBocce
DTSTART;TZID=America/Los_Angeles:20241107T183000
DTEND;TZID=America/Los_Angeles:20241107T213000
STATUS:CONFIRMED
SUMMARY:Notorious B.O.C.C.E. vs Bocce Barons
DESCRIPTION:D:Thu Night group regular season match: Notoriou
 s B.O.C.C.E. vs. Bocce Barons
LOCATION:Ipsen Court 2
END:VEVENT
BEGIN:VEVENT
DTSTAMP:20241101T000000Z
UID:560aee3a-7877-40fb-9375-3885edf966d9@ClaytonBocce
DTSTART;TZID=America/Los_Angeles:20241114T183000
DTEND;TZID=America/Los_Angeles:20241114T213000
STATUS:CONFIRMED
SUMMARY:Notorious B.O.C.C.E. vs Balls to the Wall
DESCRIPTION:D:Thu Night group regular season match: Notoriou
 s B.O.C.C.E. vs. Balls to the Wall
LOCATION:Ipsen Court 2
END:VEVENT
BEGIN:VEVENT
DTSTAMP:20241101T000000Z
UID:51499198-3d81-4364-a39d-259527c94021@ClaytonBocce
DTSTART;TZID=America/Los_Angeles:20241121T183000
DTEND;TZID=America/Los_Angeles:20241121T213000
STATUS:CONFIRMED
SUMMARY:Notorious B.O.C.C.E. vs it's all about the balls
DESCRIPTION:D:Thu Night group regular season match: Notoriou
 s B.O.C.C.E. vs. it's all about the balls
LOCATION:Ipsen Court 1
END:VEVENT
BEGIN:VEVENT
DTSTAMP:20241101T000000Z
UID:179b91f8-0020-486c-9633-fca47c9d8849@ClaytonBocce
DTSTART;TZID=America/Los_Angeles:20241205T183000
DTEND;TZID=America/Los_Angeles:20241205T213000
STATUS:CONFIRMED
SUMMARY:Notorious B.O.C.C.E. vs Mazzei Chevrolet
DESCRIPTION:D:Thu Night group regular season match: Notoriou
 s B.O.C.C.E. vs. Mazzei Chevrolet
LOCATION:Ipsen Court 3
END:VEVENT
BEGIN:VEVENT
DTSTAMP:20241101T000000Z
UID:625f1f5a-6930-4dbb-9a32-55544ef70d51@ClaytonBocce
DTSTART;TZID=America/Los_Angeles:20241212T183000
DTEND;TZID=America/Los_Angeles:20241212T213000
STATUS:CONFIRMED
SUMMARY:Notorious B.O.C.C.E. vs Family Ties
DESCRIPTION:D:Thu Night group regular season match: Notoriou
 s B.O.C.C.E. vs. Family Ties
LOCATION:Ipsen Court 1
END:VEVENT
BEGIN:VEVENT
DTSTAMP:20241101T000000Z
UID:c2e2d80f-1dd6-4574-b8fd-0a13c4eaea40@ClaytonBocce
DTSTART;TZID=America/Los_Angeles:20241219T183000
DTEND;TZID=America/Los_Angeles:20241219T213000
STATUS:CONFIRMED
SUMMARY:Notorious B.O.C.C.E. vs The Bowling League was Full
DESCRIPTION:D:Thu Night group regular season match: Notoriou
 s B.O.C.C.E. vs. The Bowling League was Full
LOCATION:Ipsen Court 4
END:VEVENT
BEGIN:VEVENT
DTSTAMP:20241121T161114Z
UID:a2fb81de-c5fc-4133-af47-cbedb55ca235@ClaytonBocce
DTSTART;TZID=America/Los_Angeles:20250102T183000
DTEND;TZID=America/Los_Angeles:20250102T213000
STATUS:CONFIRMED
SUMMARY:Notorious B.O.C.C.E. vs it's all about the balls
DESCRIPTION:D:Thu Night group regular season match: Notoriou
 s B.O.C.C.E. vs. it's all about the balls (Makeup match for 
 game(s) canceled on 6:30 pm)
LOCATION:Ipsen Court 1
END:VEVENT
BEGIN:VEVENT
DTSTAMP:20241101T000000Z
UID:d2f56746-27ab-4131-93c3-b265294ce26a@ClaytonBocce
DTSTART;TZID=America/Los_Angeles:20250109T183000
DTEND;TZID=America/Los_Angeles:20250109T213000
STATUS:CONFIRMED
SUMMARY:Notorious B.O.C.C.E. vs Rollin' Stones
DESCRIPTION:D:Thu Night group regular season match: Notoriou
 s B.O.C.C.E. vs. Rollin' Stones
LOCATION:Ipsen Court 3
END:VEVENT
BEGIN:VEVENT
DTSTAMP:20241114T173954Z
UID:0fc2e06d-cb0c-4e74-b84a-d8436bcc304d@ClaytonBocce
DTSTART;TZID=America/Los_Angeles:20250116T183000
DTEND;TZID=America/Los_Angeles:20250116T213000
STATUS:CONFIRMED
SUMMARY:Notorious B.O.C.C.E. vs Balls to the Wall
DESCRIPTION:D:Thu Night group regular season match: Notoriou
 s B.O.C.C.E. vs. Balls to the Wall (Makeup match for game(s)
  canceled on 6:30 pm)
LOCATION:Ipsen Court 2
END:VEVENT
BEGIN:VEVENT
DTSTAMP:20241212T095406Z
UID:5ef704c5-5af1-4f2d-9b2c-77b81a28bfc5@ClaytonBocce
DTSTART;TZID=America/Los_Angeles:20250123T183000
DTEND;TZID=America/Los_Angeles:20250123T213000
STATUS:CONFIRMED
SUMMARY:Notorious B.O.C.C.E. vs Family Ties
DESCRIPTION:D:Thu Night group regular season match: Notoriou
 s B.O.C.C.E. vs. Family Ties (Makeup match for game(s) cance
 led on 6:30 pm)
LOCATION:Ipsen Court 1
END:VEVENT
END:VCALENDAR
