BEGIN:VCALENDAR
VERSION:2.0
PRODID:-//Clayton Bocce League
METHOD:PUBLISH
BEGIN:VTIMEZONE
TZID:America/Los_Angeles
X-LIC-LOCATION:America/Los_Angeles
BEGIN:DAYLIGHT
TZOFFSETFROM:-0800
TZOFFSETTO:-0700
TZNAME:PDT
DTSTART:20070311T020000
RRULE:FREQ=YEARLY;BYMONTH=3;BYDAY=2SU
END:DAYLIGHT
BEGIN:STANDARD
TZOFFSETFROM:-0700
TZOFFSETTO:-0800
TZNAME:PST
DTSTART:20071104T020000
RRULE:FREQ=YEARLY;BYMONTH=11;BYDAY=1SU
END:STANDARD
END:VTIMEZONE
BEGIN:VEVENT
DTSTAMP:20241101T000000Z
UID:21cbf28f-bb2a-4db1-ac6e-332e3784005c@ClaytonBocce
DTSTART;TZID=America/Los_Angeles:20241107T183000
DTEND;TZID=America/Los_Angeles:20241107T213000
STATUS:CONFIRMED
SUMMARY:Bocce Barons vs Notorious B.O.C.C.E.
DESCRIPTION:D:Thu Night group regular season match: Bocce Ba
 rons vs. Notorious B.O.C.C.E.
LOCATION:Ipsen Court 2
END:VEVENT
BEGIN:VEVENT
DTSTAMP:20241101T000000Z
UID:9c3a67b1-b99b-42f2-9a88-7abf7a908ca4@ClaytonBocce
DTSTART;TZID=America/Los_Angeles:20241114T183000
DTEND;TZID=America/Los_Angeles:20241114T213000
STATUS:CONFIRMED
SUMMARY:Bocce Barons vs Mazzei Chevrolet
DESCRIPTION:D:Thu Night group regular season match: Bocce Ba
 rons vs. Mazzei Chevrolet
LOCATION:Ipsen Court 4
END:VEVENT
BEGIN:VEVENT
DTSTAMP:20241101T000000Z
UID:82990abc-bcc6-4a49-afea-2e16d2a2c71f@ClaytonBocce
DTSTART;TZID=America/Los_Angeles:20241121T183000
DTEND;TZID=America/Los_Angeles:20241121T213000
STATUS:CONFIRMED
SUMMARY:Bocce Barons vs Balls to the Wall
DESCRIPTION:D:Thu Night group regular season match: Bocce Ba
 rons vs. Balls to the Wall
LOCATION:Ipsen Court 2
END:VEVENT
BEGIN:VEVENT
DTSTAMP:20241101T000000Z
UID:8e441360-bbbd-4a19-b381-5464aad85851@ClaytonBocce
DTSTART;TZID=America/Los_Angeles:20241205T183000
DTEND;TZID=America/Los_Angeles:20241205T213000
STATUS:CONFIRMED
SUMMARY:Bocce Barons vs The Bowling League was Full
DESCRIPTION:D:Thu Night group regular season match: Bocce Ba
 rons vs. The Bowling League was Full
LOCATION:Ipsen Court 1
END:VEVENT
BEGIN:VEVENT
DTSTAMP:20241101T000000Z
UID:440dcf9d-1579-420a-9bbf-6015470f84b7@ClaytonBocce
DTSTART;TZID=America/Los_Angeles:20241212T183000
DTEND;TZID=America/Los_Angeles:20241212T213000
STATUS:CONFIRMED
SUMMARY:Bocce Barons vs it's all about the balls
DESCRIPTION:D:Thu Night group regular season match: Bocce Ba
 rons vs. it's all about the balls
LOCATION:Ipsen Court 3
END:VEVENT
BEGIN:VEVENT
DTSTAMP:20241101T000000Z
UID:f7677a6b-b08b-4d36-ad4e-62e62b7e05ac@ClaytonBocce
DTSTART;TZID=America/Los_Angeles:20241219T183000
DTEND;TZID=America/Los_Angeles:20241219T213000
STATUS:CONFIRMED
SUMMARY:Bocce Barons vs Rollin' Stones
DESCRIPTION:D:Thu Night group regular season match: Bocce Ba
 rons vs. Rollin' Stones
LOCATION:Ipsen Court 1
END:VEVENT
BEGIN:VEVENT
DTSTAMP:20241121T161114Z
UID:ca203327-4ba5-41ef-8292-3ff2a183181c@ClaytonBocce
DTSTART;TZID=America/Los_Angeles:20250102T183000
DTEND;TZID=America/Los_Angeles:20250102T213000
STATUS:CONFIRMED
SUMMARY:Bocce Barons vs Balls to the Wall
DESCRIPTION:D:Thu Night group regular season match: Bocce Ba
 rons vs. Balls to the Wall (Makeup match for game(s) cancele
 d on 6:30 pm)
LOCATION:Ipsen Court 2
END:VEVENT
BEGIN:VEVENT
DTSTAMP:20241101T000000Z
UID:89cb1259-3884-40d7-93ff-5ee55a3d25b2@ClaytonBocce
DTSTART;TZID=America/Los_Angeles:20250109T183000
DTEND;TZID=America/Los_Angeles:20250109T213000
STATUS:CONFIRMED
SUMMARY:Bocce Barons vs Family Ties
DESCRIPTION:D:Thu Night group regular season match: Bocce Ba
 rons vs. Family Ties
LOCATION:Ipsen Court 4
END:VEVENT
BEGIN:VEVENT
DTSTAMP:20241114T173954Z
UID:a3c783dc-e659-4935-aebc-62913fd44ba2@ClaytonBocce
DTSTART;TZID=America/Los_Angeles:20250116T183000
DTEND;TZID=America/Los_Angeles:20250116T213000
STATUS:CONFIRMED
SUMMARY:Bocce Barons vs Mazzei Chevrolet
DESCRIPTION:D:Thu Night group regular season match: Bocce Ba
 rons vs. Mazzei Chevrolet (Makeup match for game(s) canceled
  on 6:30 pm)
LOCATION:Ipsen Court 4
END:VEVENT
BEGIN:VEVENT
DTSTAMP:20241212T095406Z
UID:f285d6f0-aa95-4185-839b-a1160197f004@ClaytonBocce
DTSTART;TZID=America/Los_Angeles:20250123T183000
DTEND;TZID=America/Los_Angeles:20250123T213000
STATUS:CONFIRMED
SUMMARY:Bocce Barons vs it's all about the balls
DESCRIPTION:D:Thu Night group regular season match: Bocce Ba
 rons vs. it's all about the balls (Makeup match for game(s) 
 canceled on 6:30 pm)
LOCATION:Ipsen Court 3
END:VEVENT
END:VCALENDAR
