BEGIN:VCALENDAR
VERSION:2.0
PRODID:-//Clayton Bocce League
METHOD:PUBLISH
BEGIN:VTIMEZONE
TZID:America/Los_Angeles
X-LIC-LOCATION:America/Los_Angeles
BEGIN:DAYLIGHT
TZOFFSETFROM:-0800
TZOFFSETTO:-0700
TZNAME:PDT
DTSTART:20070311T020000
RRULE:FREQ=YEARLY;BYMONTH=3;BYDAY=2SU
END:DAYLIGHT
BEGIN:STANDARD
TZOFFSETFROM:-0700
TZOFFSETTO:-0800
TZNAME:PST
DTSTART:20071104T020000
RRULE:FREQ=YEARLY;BYMONTH=11;BYDAY=1SU
END:STANDARD
END:VTIMEZONE
BEGIN:VEVENT
DTSTAMP:20241101T000000Z
UID:6162015a-809f-460c-995c-8a16b4e1d2fa@ClaytonBocce
DTSTART;TZID=America/Los_Angeles:20241107T183000
DTEND;TZID=America/Los_Angeles:20241107T213000
STATUS:CONFIRMED
SUMMARY:The Bowling League was Full vs Balls to the Wall
DESCRIPTION:D:Thu Night group regular season match: The Bowl
 ing League was Full vs. Balls to the Wall
LOCATION:Ipsen Court 3
END:VEVENT
BEGIN:VEVENT
DTSTAMP:20241101T000000Z
UID:09542162-acad-4a92-8856-623b36886af5@ClaytonBocce
DTSTART;TZID=America/Los_Angeles:20241114T183000
DTEND;TZID=America/Los_Angeles:20241114T213000
STATUS:CONFIRMED
SUMMARY:The Bowling League was Full vs Rollin' Stones
DESCRIPTION:D:Thu Night group regular season match: The Bowl
 ing League was Full vs. Rollin' Stones
LOCATION:Ipsen Court 1
END:VEVENT
BEGIN:VEVENT
DTSTAMP:20241101T000000Z
UID:bb22ac61-b9b0-42f0-aae0-aa2b1eaec4f9@ClaytonBocce
DTSTART;TZID=America/Los_Angeles:20241121T183000
DTEND;TZID=America/Los_Angeles:20241121T213000
STATUS:CONFIRMED
SUMMARY:The Bowling League was Full vs Family Ties
DESCRIPTION:D:Thu Night group regular season match: The Bowl
 ing League was Full vs. Family Ties
LOCATION:Ipsen Court 4
END:VEVENT
BEGIN:VEVENT
DTSTAMP:20241101T000000Z
UID:8e441360-bbbd-4a19-b381-5464aad85851@ClaytonBocce
DTSTART;TZID=America/Los_Angeles:20241205T183000
DTEND;TZID=America/Los_Angeles:20241205T213000
STATUS:CONFIRMED
SUMMARY:The Bowling League was Full vs Bocce Barons
DESCRIPTION:D:Thu Night group regular season match: The Bowl
 ing League was Full vs. Bocce Barons
LOCATION:Ipsen Court 1
END:VEVENT
BEGIN:VEVENT
DTSTAMP:20241101T000000Z
UID:64e7dcfd-33b4-4f23-9674-a8f8ff5f8d9c@ClaytonBocce
DTSTART;TZID=America/Los_Angeles:20241212T183000
DTEND;TZID=America/Los_Angeles:20241212T213000
STATUS:CONFIRMED
SUMMARY:The Bowling League was Full vs Mazzei Chevrolet
DESCRIPTION:D:Thu Night group regular season match: The Bowl
 ing League was Full vs. Mazzei Chevrolet
LOCATION:Ipsen Court 2
END:VEVENT
BEGIN:VEVENT
DTSTAMP:20241101T000000Z
UID:c2e2d80f-1dd6-4574-b8fd-0a13c4eaea40@ClaytonBocce
DTSTART;TZID=America/Los_Angeles:20241219T183000
DTEND;TZID=America/Los_Angeles:20241219T213000
STATUS:CONFIRMED
SUMMARY:The Bowling League was Full vs Notorious B.O.C.C.E.
DESCRIPTION:D:Thu Night group regular season match: The Bowl
 ing League was Full vs. Notorious B.O.C.C.E.
LOCATION:Ipsen Court 4
END:VEVENT
BEGIN:VEVENT
DTSTAMP:20241121T161114Z
UID:0b2482bd-b789-4830-805e-835481e13c2e@ClaytonBocce
DTSTART;TZID=America/Los_Angeles:20250102T183000
DTEND;TZID=America/Los_Angeles:20250102T213000
STATUS:CONFIRMED
SUMMARY:The Bowling League was Full vs Family Ties
DESCRIPTION:D:Thu Night group regular season match: The Bowl
 ing League was Full vs. Family Ties (Makeup match for game(s
 ) canceled on 6:30 pm)
LOCATION:Ipsen Court 4
END:VEVENT
BEGIN:VEVENT
DTSTAMP:20241101T000000Z
UID:51f33325-f5b9-409b-a0d3-c79504b99b85@ClaytonBocce
DTSTART;TZID=America/Los_Angeles:20250109T183000
DTEND;TZID=America/Los_Angeles:20250109T213000
STATUS:CONFIRMED
SUMMARY:The Bowling League was Full vs it's all about the ba
 lls
DESCRIPTION:D:Thu Night group regular season match: The Bowl
 ing League was Full vs. it's all about the balls
LOCATION:Ipsen Court 2
END:VEVENT
BEGIN:VEVENT
DTSTAMP:20241114T173954Z
UID:b136d3fc-e8b2-4ab4-89bf-08452404fc55@ClaytonBocce
DTSTART;TZID=America/Los_Angeles:20250116T183000
DTEND;TZID=America/Los_Angeles:20250116T213000
STATUS:CONFIRMED
SUMMARY:The Bowling League was Full vs Rollin' Stones
DESCRIPTION:D:Thu Night group regular season match: The Bowl
 ing League was Full vs. Rollin' Stones (Makeup match for gam
 e(s) canceled on 6:30 pm)
LOCATION:Ipsen Court 1
END:VEVENT
BEGIN:VEVENT
DTSTAMP:20241212T095406Z
UID:b02bb7ae-6fef-4fd6-92c0-d9d93df155ca@ClaytonBocce
DTSTART;TZID=America/Los_Angeles:20250123T183000
DTEND;TZID=America/Los_Angeles:20250123T213000
STATUS:CONFIRMED
SUMMARY:The Bowling League was Full vs Mazzei Chevrolet
DESCRIPTION:D:Thu Night group regular season match: The Bowl
 ing League was Full vs. Mazzei Chevrolet (Makeup match for g
 ame(s) canceled on 6:30 pm)
LOCATION:Ipsen Court 2
END:VEVENT
END:VCALENDAR
