BEGIN:VCALENDAR
VERSION:2.0
PRODID:-//Clayton Bocce League
METHOD:PUBLISH
BEGIN:VTIMEZONE
TZID:America/Los_Angeles
X-LIC-LOCATION:America/Los_Angeles
BEGIN:DAYLIGHT
TZOFFSETFROM:-0800
TZOFFSETTO:-0700
TZNAME:PDT
DTSTART:20070311T020000
RRULE:FREQ=YEARLY;BYMONTH=3;BYDAY=2SU
END:DAYLIGHT
BEGIN:STANDARD
TZOFFSETFROM:-0700
TZOFFSETTO:-0800
TZNAME:PST
DTSTART:20071104T020000
RRULE:FREQ=YEARLY;BYMONTH=11;BYDAY=1SU
END:STANDARD
END:VTIMEZONE
BEGIN:VEVENT
DTSTAMP:20241101T000000Z
UID:9928b6ad-da0a-4eac-9e85-bcc257a7a151@ClaytonBocce
DTSTART;TZID=America/Los_Angeles:20241107T183000
DTEND;TZID=America/Los_Angeles:20241107T213000
STATUS:CONFIRMED
SUMMARY:it's all about the balls vs Rollin' Stones
DESCRIPTION:D:Thu Night group regular season match: it's all
  about the balls vs. Rollin' Stones
LOCATION:Ipsen Court 4
END:VEVENT
BEGIN:VEVENT
DTSTAMP:20241101T000000Z
UID:aa761335-b90c-465b-b41c-6477a506d568@ClaytonBocce
DTSTART;TZID=America/Los_Angeles:20241114T183000
DTEND;TZID=America/Los_Angeles:20241114T213000
STATUS:CONFIRMED
SUMMARY:it's all about the balls vs Family Ties
DESCRIPTION:D:Thu Night group regular season match: it's all
  about the balls vs. Family Ties
LOCATION:Ipsen Court 3
END:VEVENT
BEGIN:VEVENT
DTSTAMP:20241101T000000Z
UID:51499198-3d81-4364-a39d-259527c94021@ClaytonBocce
DTSTART;TZID=America/Los_Angeles:20241121T183000
DTEND;TZID=America/Los_Angeles:20241121T213000
STATUS:CONFIRMED
SUMMARY:it's all about the balls vs Notorious B.O.C.C.E.
DESCRIPTION:D:Thu Night group regular season match: it's all
  about the balls vs. Notorious B.O.C.C.E.
LOCATION:Ipsen Court 1
END:VEVENT
BEGIN:VEVENT
DTSTAMP:20241101T000000Z
UID:2e60e7a8-1c29-4298-94e2-1e8c85f8e45a@ClaytonBocce
DTSTART;TZID=America/Los_Angeles:20241205T183000
DTEND;TZID=America/Los_Angeles:20241205T213000
STATUS:CONFIRMED
SUMMARY:it's all about the balls vs Balls to the Wall
DESCRIPTION:D:Thu Night group regular season match: it's all
  about the balls vs. Balls to the Wall
LOCATION:Ipsen Court 4
END:VEVENT
BEGIN:VEVENT
DTSTAMP:20241101T000000Z
UID:440dcf9d-1579-420a-9bbf-6015470f84b7@ClaytonBocce
DTSTART;TZID=America/Los_Angeles:20241212T183000
DTEND;TZID=America/Los_Angeles:20241212T213000
STATUS:CONFIRMED
SUMMARY:it's all about the balls vs Bocce Barons
DESCRIPTION:D:Thu Night group regular season match: it's all
  about the balls vs. Bocce Barons
LOCATION:Ipsen Court 3
END:VEVENT
BEGIN:VEVENT
DTSTAMP:20241101T000000Z
UID:8e402cfd-835e-42bb-a1f3-8f40f8c2f17d@ClaytonBocce
DTSTART;TZID=America/Los_Angeles:20241219T183000
DTEND;TZID=America/Los_Angeles:20241219T213000
STATUS:CONFIRMED
SUMMARY:it's all about the balls vs Mazzei Chevrolet
DESCRIPTION:D:Thu Night group regular season match: it's all
  about the balls vs. Mazzei Chevrolet
LOCATION:Ipsen Court 2
END:VEVENT
BEGIN:VEVENT
DTSTAMP:20241121T161114Z
UID:a2fb81de-c5fc-4133-af47-cbedb55ca235@ClaytonBocce
DTSTART;TZID=America/Los_Angeles:20250102T183000
DTEND;TZID=America/Los_Angeles:20250102T213000
STATUS:CONFIRMED
SUMMARY:it's all about the balls vs Notorious B.O.C.C.E.
DESCRIPTION:D:Thu Night group regular season match: it's all
  about the balls vs. Notorious B.O.C.C.E. (Makeup match for 
 game(s) canceled on 6:30 pm)
LOCATION:Ipsen Court 1
END:VEVENT
BEGIN:VEVENT
DTSTAMP:20241101T000000Z
UID:51f33325-f5b9-409b-a0d3-c79504b99b85@ClaytonBocce
DTSTART;TZID=America/Los_Angeles:20250109T183000
DTEND;TZID=America/Los_Angeles:20250109T213000
STATUS:CONFIRMED
SUMMARY:it's all about the balls vs The Bowling League was F
 ull
DESCRIPTION:D:Thu Night group regular season match: it's all
  about the balls vs. The Bowling League was Full
LOCATION:Ipsen Court 2
END:VEVENT
BEGIN:VEVENT
DTSTAMP:20241114T173954Z
UID:f67a8c6b-cec5-4919-b65a-9ac00c89ec96@ClaytonBocce
DTSTART;TZID=America/Los_Angeles:20250116T183000
DTEND;TZID=America/Los_Angeles:20250116T213000
STATUS:CONFIRMED
SUMMARY:it's all about the balls vs Family Ties
DESCRIPTION:D:Thu Night group regular season match: it's all
  about the balls vs. Family Ties (Makeup match for game(s) c
 anceled on 6:30 pm)
LOCATION:Ipsen Court 3
END:VEVENT
BEGIN:VEVENT
DTSTAMP:20241212T095406Z
UID:f285d6f0-aa95-4185-839b-a1160197f004@ClaytonBocce
DTSTART;TZID=America/Los_Angeles:20250123T183000
DTEND;TZID=America/Los_Angeles:20250123T213000
STATUS:CONFIRMED
SUMMARY:it's all about the balls vs Bocce Barons
DESCRIPTION:D:Thu Night group regular season match: it's all
  about the balls vs. Bocce Barons (Makeup match for game(s) 
 canceled on 6:30 pm)
LOCATION:Ipsen Court 3
END:VEVENT
END:VCALENDAR
