BEGIN:VCALENDAR
VERSION:2.0
PRODID:-//Clayton Bocce League
METHOD:PUBLISH
BEGIN:VTIMEZONE
TZID:America/Los_Angeles
X-LIC-LOCATION:America/Los_Angeles
BEGIN:DAYLIGHT
TZOFFSETFROM:-0800
TZOFFSETTO:-0700
TZNAME:PDT
DTSTART:20070311T020000
RRULE:FREQ=YEARLY;BYMONTH=3;BYDAY=2SU
END:DAYLIGHT
BEGIN:STANDARD
TZOFFSETFROM:-0700
TZOFFSETTO:-0800
TZNAME:PST
DTSTART:20071104T020000
RRULE:FREQ=YEARLY;BYMONTH=11;BYDAY=1SU
END:STANDARD
END:VTIMEZONE
BEGIN:VEVENT
DTSTAMP:20241101T000000Z
UID:e4c2bfa9-4284-4baf-953c-f78113ee4b0f@ClaytonBocce
DTSTART;TZID=America/Los_Angeles:20241108T183000
DTEND;TZID=America/Los_Angeles:20241108T213000
STATUS:CONFIRMED
SUMMARY:Pretty Pink Ponies II vs The In Crowd
DESCRIPTION:E:Fri Night group regular season match: Pretty P
 ink Ponies II vs. The In Crowd
LOCATION:Ipsen Court 1
END:VEVENT
BEGIN:VEVENT
DTSTAMP:20241101T000000Z
UID:dc0c1fd1-a2ea-413e-b293-67f569da85d0@ClaytonBocce
DTSTART;TZID=America/Los_Angeles:20241115T183000
DTEND;TZID=America/Los_Angeles:20241115T213000
STATUS:CONFIRMED
SUMMARY:Pretty Pink Ponies II vs Bocce Villagio Persone
DESCRIPTION:E:Fri Night group regular season match: Pretty P
 ink Ponies II vs. Bocce Villagio Persone
LOCATION:Ipsen Court 4
END:VEVENT
BEGIN:VEVENT
DTSTAMP:20241101T000000Z
UID:87f6d994-0b1e-474d-841f-8cc6f6852611@ClaytonBocce
DTSTART;TZID=America/Los_Angeles:20241122T183000
DTEND;TZID=America/Los_Angeles:20241122T213000
STATUS:CONFIRMED
SUMMARY:Pretty Pink Ponies II vs Still Rolling with my Homie
 s
DESCRIPTION:E:Fri Night group regular season match: Pretty P
 ink Ponies II vs. Still Rolling with my Homies
LOCATION:Ipsen Court 3
END:VEVENT
BEGIN:VEVENT
DTSTAMP:20241101T000000Z
UID:dcea6db0-2030-49c1-9339-a65de7c005be@ClaytonBocce
DTSTART;TZID=America/Los_Angeles:20241206T183000
DTEND;TZID=America/Los_Angeles:20241206T213000
STATUS:CONFIRMED
SUMMARY:Pretty Pink Ponies II vs Rainbow Rollers 2
DESCRIPTION:E:Fri Night group regular season match: Pretty P
 ink Ponies II vs. Rainbow Rollers 2
LOCATION:Ipsen Court 3
END:VEVENT
BEGIN:VEVENT
DTSTAMP:20241101T000000Z
UID:278f8fa0-c1bd-47b4-bccf-d201f6784bfa@ClaytonBocce
DTSTART;TZID=America/Los_Angeles:20241213T183000
DTEND;TZID=America/Los_Angeles:20241213T213000
STATUS:CONFIRMED
SUMMARY:Pretty Pink Ponies II vs Chewbocce 3
DESCRIPTION:E:Fri Night group regular season match: Pretty P
 ink Ponies II vs. Chewbocce 3
LOCATION:Ipsen Court 2
END:VEVENT
BEGIN:VEVENT
DTSTAMP:20241101T000000Z
UID:2ce0e515-b94f-4477-83ea-8a58e8313226@ClaytonBocce
DTSTART;TZID=America/Los_Angeles:20241220T183000
DTEND;TZID=America/Los_Angeles:20241220T213000
STATUS:CONFIRMED
SUMMARY:Pretty Pink Ponies II vs Pallino Posse
DESCRIPTION:E:Fri Night group regular season match: Pretty P
 ink Ponies II vs. Pallino Posse
LOCATION:Ipsen Court 2
END:VEVENT
BEGIN:VEVENT
DTSTAMP:20241121T161204Z
UID:b6bf6fd0-f1db-41f1-865a-6453bce1b8ee@ClaytonBocce
DTSTART;TZID=America/Los_Angeles:20241227T183000
DTEND;TZID=America/Los_Angeles:20241227T213000
STATUS:CONFIRMED
SUMMARY:Pretty Pink Ponies II vs Still Rolling with my Homie
 s
DESCRIPTION:E:Fri Night group regular season match: Pretty P
 ink Ponies II vs. Still Rolling with my Homies (Makeup match
  for game(s) canceled on 6:30 pm)
LOCATION:Ipsen Court 3
END:VEVENT
BEGIN:VEVENT
DTSTAMP:20241115T151538Z
UID:afc7c845-5357-4405-8f12-f01702825d31@ClaytonBocce
DTSTART;TZID=America/Los_Angeles:20250103T183000
DTEND;TZID=America/Los_Angeles:20250103T213000
STATUS:CONFIRMED
SUMMARY:Pretty Pink Ponies II vs Bocce Villagio Persone
DESCRIPTION:E:Fri Night group regular season match: Pretty P
 ink Ponies II vs. Bocce Villagio Persone (Makeup match for g
 ame(s) canceled on 6:30 pm)
LOCATION:Ipsen Court 4
END:VEVENT
BEGIN:VEVENT
DTSTAMP:20241101T000000Z
UID:60430bdf-151c-496f-97e0-ebbe498856ec@ClaytonBocce
DTSTART;TZID=America/Los_Angeles:20250110T183000
DTEND;TZID=America/Los_Angeles:20250110T213000
STATUS:CONFIRMED
SUMMARY:Pretty Pink Ponies II vs Bocce Machine
DESCRIPTION:E:Fri Night group regular season match: Pretty P
 ink Ponies II vs. Bocce Machine
LOCATION:Ipsen Court 1
END:VEVENT
BEGIN:VEVENT
DTSTAMP:20241212T142033Z
UID:1cf1cfd4-b16a-4e7a-8690-dd727467227d@ClaytonBocce
DTSTART;TZID=America/Los_Angeles:20250117T183000
DTEND;TZID=America/Los_Angeles:20250117T213000
STATUS:CONFIRMED
SUMMARY:Pretty Pink Ponies II vs Chewbocce 3
DESCRIPTION:E:Fri Night group regular season match: Pretty P
 ink Ponies II vs. Chewbocce 3 (Makeup match for game(s) canc
 eled on 6:30 pm)
LOCATION:Ipsen Court 2
END:VEVENT
BEGIN:VEVENT
DTSTAMP:20241226T122132Z
UID:bf76d311-cd9d-47ec-b381-8a8a432c6c34@ClaytonBocce
DTSTART;TZID=America/Los_Angeles:20250124T183000
DTEND;TZID=America/Los_Angeles:20250124T213000
STATUS:CONFIRMED
SUMMARY:Pretty Pink Ponies II vs Still Rolling with my Homie
 s
DESCRIPTION:E:Fri Night group regular season match: Pretty P
 ink Ponies II vs. Still Rolling with my Homies (Makeup match
  for game(s) canceled on 6:30 pm)
LOCATION:Ipsen Court 3
END:VEVENT
BEGIN:VEVENT
DTSTAMP:20250103T111321Z
UID:6ea851d1-c622-4198-be7e-89372ce1aab8@ClaytonBocce
DTSTART;TZID=America/Los_Angeles:20250131T183000
DTEND;TZID=America/Los_Angeles:20250131T213000
STATUS:CONFIRMED
SUMMARY:Pretty Pink Ponies II vs Bocce Villagio Persone
DESCRIPTION:E:Fri Night group regular season match: Pretty P
 ink Ponies II vs. Bocce Villagio Persone (Makeup match for g
 ame(s) canceled on 6:30 pm)
LOCATION:Ipsen Court 4
END:VEVENT
BEGIN:VEVENT
DTSTAMP:20250207T073512Z
UID:fd65b2e0-8e1a-4ecd-8d5c-ab2e93af7b16@ClaytonBocce
DTSTART;TZID=America/Los_Angeles:20250210T183000
DTEND;TZID=America/Los_Angeles:20250210T213000
STATUS:CONFIRMED
SUMMARY:Pretty Pink Ponies II vs Bocce Villagio Persone
DESCRIPTION:E:Fri Night group regular season match: Pretty P
 ink Ponies II vs. Bocce Villagio Persone (Makeup match for g
 ame(s) canceled on 6:30 pm)
LOCATION:Ipsen Court 4
END:VEVENT
END:VCALENDAR
