BEGIN:VCALENDAR
VERSION:2.0
PRODID:-//Clayton Bocce League
METHOD:PUBLISH
BEGIN:VTIMEZONE
TZID:America/Los_Angeles
X-LIC-LOCATION:America/Los_Angeles
BEGIN:DAYLIGHT
TZOFFSETFROM:-0800
TZOFFSETTO:-0700
TZNAME:PDT
DTSTART:20070311T020000
RRULE:FREQ=YEARLY;BYMONTH=3;BYDAY=2SU
END:DAYLIGHT
BEGIN:STANDARD
TZOFFSETFROM:-0700
TZOFFSETTO:-0800
TZNAME:PST
DTSTART:20071104T020000
RRULE:FREQ=YEARLY;BYMONTH=11;BYDAY=1SU
END:STANDARD
END:VTIMEZONE
BEGIN:VEVENT
DTSTAMP:20241101T000000Z
UID:944ae204-a319-4473-8d71-2c5d11a7eb51@ClaytonBocce
DTSTART;TZID=America/Los_Angeles:20241108T183000
DTEND;TZID=America/Los_Angeles:20241108T213000
STATUS:CONFIRMED
SUMMARY:Chewbocce 3 vs Bocce Machine
DESCRIPTION:E:Fri Night group regular season match: Chewbocc
 e 3 vs. Bocce Machine
LOCATION:Ipsen Court 3
END:VEVENT
BEGIN:VEVENT
DTSTAMP:20241101T000000Z
UID:5db4cddc-ab3e-4657-a007-b0a5aa76b661@ClaytonBocce
DTSTART;TZID=America/Los_Angeles:20241115T183000
DTEND;TZID=America/Los_Angeles:20241115T213000
STATUS:CONFIRMED
SUMMARY:Chewbocce 3 vs Still Rolling with my Homies
DESCRIPTION:E:Fri Night group regular season match: Chewbocc
 e 3 vs. Still Rolling with my Homies
LOCATION:Ipsen Court 1
END:VEVENT
BEGIN:VEVENT
DTSTAMP:20241101T000000Z
UID:c1d83f8d-c0e4-448d-b8f5-fac700d5663a@ClaytonBocce
DTSTART;TZID=America/Los_Angeles:20241122T183000
DTEND;TZID=America/Los_Angeles:20241122T213000
STATUS:CONFIRMED
SUMMARY:Chewbocce 3 vs The In Crowd
DESCRIPTION:E:Fri Night group regular season match: Chewbocc
 e 3 vs. The In Crowd
LOCATION:Ipsen Court 4
END:VEVENT
BEGIN:VEVENT
DTSTAMP:20241101T000000Z
UID:89fe79a2-12fd-49cf-a95a-d6f4a499f984@ClaytonBocce
DTSTART;TZID=America/Los_Angeles:20241206T183000
DTEND;TZID=America/Los_Angeles:20241206T213000
STATUS:CONFIRMED
SUMMARY:Chewbocce 3 vs Bocce Villagio Persone
DESCRIPTION:E:Fri Night group regular season match: Chewbocc
 e 3 vs. Bocce Villagio Persone
LOCATION:Ipsen Court 1
END:VEVENT
BEGIN:VEVENT
DTSTAMP:20241101T000000Z
UID:278f8fa0-c1bd-47b4-bccf-d201f6784bfa@ClaytonBocce
DTSTART;TZID=America/Los_Angeles:20241213T183000
DTEND;TZID=America/Los_Angeles:20241213T213000
STATUS:CONFIRMED
SUMMARY:Chewbocce 3 vs Pretty Pink Ponies II
DESCRIPTION:E:Fri Night group regular season match: Chewbocc
 e 3 vs. Pretty Pink Ponies II
LOCATION:Ipsen Court 2
END:VEVENT
BEGIN:VEVENT
DTSTAMP:20241101T000000Z
UID:9242957a-2ee1-4fca-acab-54da8d7ee0f0@ClaytonBocce
DTSTART;TZID=America/Los_Angeles:20241220T183000
DTEND;TZID=America/Los_Angeles:20241220T213000
STATUS:CONFIRMED
SUMMARY:Chewbocce 3 vs Rainbow Rollers 2
DESCRIPTION:E:Fri Night group regular season match: Chewbocc
 e 3 vs. Rainbow Rollers 2
LOCATION:Ipsen Court 4
END:VEVENT
BEGIN:VEVENT
DTSTAMP:20241121T161204Z
UID:3ee10fc0-b63e-41d4-8a74-c14d434e397e@ClaytonBocce
DTSTART;TZID=America/Los_Angeles:20241227T183000
DTEND;TZID=America/Los_Angeles:20241227T213000
STATUS:CONFIRMED
SUMMARY:Chewbocce 3 vs The In Crowd
DESCRIPTION:E:Fri Night group regular season match: Chewbocc
 e 3 vs. The In Crowd (Makeup match for game(s) canceled on 6
 :30 pm)
LOCATION:Ipsen Court 4
END:VEVENT
BEGIN:VEVENT
DTSTAMP:20241115T151538Z
UID:85a87829-4504-428b-a85c-fc491bfcbd50@ClaytonBocce
DTSTART;TZID=America/Los_Angeles:20250103T183000
DTEND;TZID=America/Los_Angeles:20250103T213000
STATUS:CONFIRMED
SUMMARY:Chewbocce 3 vs Still Rolling with my Homies
DESCRIPTION:E:Fri Night group regular season match: Chewbocc
 e 3 vs. Still Rolling with my Homies (Makeup match for game(
 s) canceled on 6:30 pm)
LOCATION:Ipsen Court 1
END:VEVENT
BEGIN:VEVENT
DTSTAMP:20241101T000000Z
UID:6e5226a1-4473-4b82-8349-fc08bc7efdd2@ClaytonBocce
DTSTART;TZID=America/Los_Angeles:20250110T183000
DTEND;TZID=America/Los_Angeles:20250110T213000
STATUS:CONFIRMED
SUMMARY:Chewbocce 3 vs Pallino Posse
DESCRIPTION:E:Fri Night group regular season match: Chewbocc
 e 3 vs. Pallino Posse
LOCATION:Ipsen Court 2
END:VEVENT
BEGIN:VEVENT
DTSTAMP:20241212T142033Z
UID:1cf1cfd4-b16a-4e7a-8690-dd727467227d@ClaytonBocce
DTSTART;TZID=America/Los_Angeles:20250117T183000
DTEND;TZID=America/Los_Angeles:20250117T213000
STATUS:CONFIRMED
SUMMARY:Chewbocce 3 vs Pretty Pink Ponies II
DESCRIPTION:E:Fri Night group regular season match: Chewbocc
 e 3 vs. Pretty Pink Ponies II (Makeup match for game(s) canc
 eled on 6:30 pm)
LOCATION:Ipsen Court 2
END:VEVENT
BEGIN:VEVENT
DTSTAMP:20241226T122132Z
UID:4daafbd9-d5cf-4c7c-b677-e50ac60ce78a@ClaytonBocce
DTSTART;TZID=America/Los_Angeles:20250124T183000
DTEND;TZID=America/Los_Angeles:20250124T213000
STATUS:CONFIRMED
SUMMARY:Chewbocce 3 vs The In Crowd
DESCRIPTION:E:Fri Night group regular season match: Chewbocc
 e 3 vs. The In Crowd (Makeup match for game(s) canceled on 6
 :30 pm)
LOCATION:Ipsen Court 4
END:VEVENT
BEGIN:VEVENT
DTSTAMP:20250103T111321Z
UID:b05b201c-c627-4438-b86f-b2b7be630c43@ClaytonBocce
DTSTART;TZID=America/Los_Angeles:20250131T183000
DTEND;TZID=America/Los_Angeles:20250131T213000
STATUS:CONFIRMED
SUMMARY:Chewbocce 3 vs Still Rolling with my Homies
DESCRIPTION:E:Fri Night group regular season match: Chewbocc
 e 3 vs. Still Rolling with my Homies (Makeup match for game(
 s) canceled on 6:30 pm)
LOCATION:Ipsen Court 1
END:VEVENT
BEGIN:VEVENT
DTSTAMP:20250207T073512Z
UID:be7574d3-ecae-4eac-8ba9-76a891df6aeb@ClaytonBocce
DTSTART;TZID=America/Los_Angeles:20250210T183000
DTEND;TZID=America/Los_Angeles:20250210T213000
STATUS:CONFIRMED
SUMMARY:Chewbocce 3 vs Still Rolling with my Homies
DESCRIPTION:E:Fri Night group regular season match: Chewbocc
 e 3 vs. Still Rolling with my Homies (Makeup match for game(
 s) canceled on 6:30 pm)
LOCATION:Ipsen Court 1
END:VEVENT
END:VCALENDAR
