BEGIN:VCALENDAR
VERSION:2.0
PRODID:-//Clayton Bocce League
METHOD:PUBLISH
BEGIN:VTIMEZONE
TZID:America/Los_Angeles
X-LIC-LOCATION:America/Los_Angeles
BEGIN:DAYLIGHT
TZOFFSETFROM:-0800
TZOFFSETTO:-0700
TZNAME:PDT
DTSTART:20070311T020000
RRULE:FREQ=YEARLY;BYMONTH=3;BYDAY=2SU
END:DAYLIGHT
BEGIN:STANDARD
TZOFFSETFROM:-0700
TZOFFSETTO:-0800
TZNAME:PST
DTSTART:20071104T020000
RRULE:FREQ=YEARLY;BYMONTH=11;BYDAY=1SU
END:STANDARD
END:VTIMEZONE
BEGIN:VEVENT
DTSTAMP:20241101T000000Z
UID:3ecca22c-3931-48d4-9a13-223f60bc0dd1@ClaytonBocce
DTSTART;TZID=America/Los_Angeles:20250222T153000
DTEND;TZID=America/Los_Angeles:20250222T183000
STATUS:CONFIRMED
SUMMARY:Mazzei Chevrolet vs Balls to the Wall
DESCRIPTION:Championship playoff match: Mazzei Chevrolet vs.
  Balls to the Wall
LOCATION:Ipsen Court 3
END:VEVENT
END:VCALENDAR
